Workbook

Sheet Jag är
A1: =Rådata!$A$1 -> Kursnr | B1: =Rådata!$B$1 -> HF0021
A2: =Rådata!$A$3 -> Datum | B2: =Rådata!$B$2 -> Matematik I
A3: =Rådata!A3 -> Datum | B3: =Rådata!$B$3 -> 190511

Sheet Bra kurs
A1: =Rådata!$A$1 -> Kursnr | B1: =Rådata!$B$1 -> HF0021
A2: =Rådata!$A$3 -> Datum | B2: =Rådata!$B$2 -> Matematik I
A3: =Rådata!A3 -> Datum | B3: =Rådata!$B$3 -> 190511
A17: =CONCATENATE(Rådata!C38,": ",Rådata!F38) -> TBASA-AV:
A18: =CONCATENATE(Rådata!C39,": ",Rådata!F39) -> TBASA-AV:
A19: =CONCATENATE(Rådata!C40,": ",Rådata!F40) -> TBASA-AV:
A20: =CONCATENATE(Rådata!C41,": ",Rådata!F41) -> TBASA-AV:
A21: =CONCATENATE(Rådata!C42,": ",Rådata!F42) -> TBASA-AV:
A22: =CONCATENATE(Rådata!C43,": ",Rådata!F43) -> TBASA-AV:
A23: =CONCATENATE(Rådata!C44,": ",Rådata!F44) -> TBASA-AV:
A24: =CONCATENATE(Rådata!C45,": ",Rådata!F45) -> TBASA-AV:
A25: =CONCATENATE(Rådata!C46,": ",Rådata!F46) -> TBASA-AV:
A26: =CONCATENATE(Rådata!C47,": ",Rådata!F47) -> TBASA-AV:
A27: =CONCATENATE(Rådata!C48,": ",Rådata!F48) -> TBASA-AV:
A28: =CONCATENATE(Rådata!C49,": ",Rådata!F49) -> TBASA-AV:
... A150: =CONCATENATE(Rådata!C171,": ",Rådata!F171) -> :

Sheet Deltog
A1: =Rådata!$A$1 -> Kursnr | B1: =Rådata!$B$1 -> HF0021
A2: =Rådata!$A$3 -> Datum | B2: =Rådata!$B$2 -> Matematik I
A3: =Rådata!A3 -> Datum | B3: =Rådata!$B$3 -> 190511
A17: =CONCATENATE(Rådata!C38,": ",Rådata!H38) -> TBASA-AV:
A18: =CONCATENATE(Rådata!C39,": ",Rådata!H39) -> TBASA-AV:
A19: =CONCATENATE(Rådata!C40,": ",Rådata!H40) -> TBASA-AV:
A20: =CONCATENATE(Rådata!C41,": ",Rådata!H41) -> TBASA-AV:
A21: =CONCATENATE(Rådata!C42,": ",Rådata!H42) -> TBASA-AV:
A22: =CONCATENATE(Rådata!C43,": ",Rådata!H43) -> TBASA-AV:
A23: =CONCATENATE(Rådata!C44,": ",Rådata!H44) -> TBASA-AV:
A24: =CONCATENATE(Rådata!C45,": ",Rådata!H45) -> TBASA-AV:
A25: =CONCATENATE(Rådata!C46,": ",Rådata!H46) -> TBASA-AV:
A26: =CONCATENATE(Rådata!C47,": ",Rådata!H47) -> TBASA-AV:
A27: =CONCATENATE(Rådata!C48,": ",Rådata!H48) -> TBASA-AV:
A28: =CONCATENATE(Rådata!C49,": ",Rådata!H49) -> TBASA-AV:
... A150: =CONCATENATE(Rådata!C171,": ",Rådata!H171) -> :

Sheet Lekt-lärorika
A1: =Rådata!$A$1 -> Kursnr | B1: =Rådata!$B$1 -> HF0021
A2: =Rådata!$A$3 -> Datum | B2: =Rådata!$B$2 -> Matematik I
A3: =Rådata!A3 -> Datum | B3: =Rådata!$B$3 -> 190511
A17: =CONCATENATE(Rådata!C38,": ",Rådata!J38) -> TBASA-AV:
A18: =CONCATENATE(Rådata!C39,": ",Rådata!J39) -> TBASA-AV:
A19: =CONCATENATE(Rådata!C40,": ",Rådata!J40) -> TBASA-AV:
A20: =CONCATENATE(Rådata!C41,": ",Rådata!J41) -> TBASA-AV:
A21: =CONCATENATE(Rådata!C42,": ",Rådata!J42) -> TBASA-AV:
A22: =CONCATENATE(Rådata!C43,": ",Rådata!J43) -> TBASA-AV:
A23: =CONCATENATE(Rådata!C44,": ",Rådata!J44) -> TBASA-AV:
A24: =CONCATENATE(Rådata!C45,": ",Rådata!J45) -> TBASA-AV:
A25: =CONCATENATE(Rådata!C46,": ",Rådata!J46) -> TBASA-AV:
A26: =CONCATENATE(Rådata!C47,": ",Rådata!J47) -> TBASA-AV:
A27: =CONCATENATE(Rådata!C48,": ",Rådata!J48) -> TBASA-AV: Jag ansåg att första halvan av mattematik kursen var en 5a, andra halvan har varit lite sämre
A28: =CONCATENATE(Rådata!C49,": ",Rådata!J49) -> TBASA-AV:
... A150: =CONCATENATE(Rådata!C171,": ",Rådata!J171) -> :

Sheet Förkunskap
A1: =Rådata!$A$1 -> Kursnr | B1: =Rådata!$B$1 -> HF0021
A2: =Rådata!$A$3 -> Datum | B2: =Rådata!$B$2 -> Matematik I
A3: =Rådata!A3 -> Datum | B3: =Rådata!$B$3 -> 190511
A17: =CONCATENATE(Rådata!C38,": ",Rådata!L38) -> TBASA-AV:
A18: =CONCATENATE(Rådata!C39,": ",Rådata!L39) -> TBASA-AV:
A19: =CONCATENATE(Rådata!C40,": ",Rådata!L40) -> TBASA-AV:
A20: =CONCATENATE(Rådata!C41,": ",Rådata!L41) -> TBASA-AV:
A21: =CONCATENATE(Rådata!C42,": ",Rådata!L42) -> TBASA-AV:
A22: =CONCATENATE(Rådata!C43,": ",Rådata!L43) -> TBASA-AV:
A23: =CONCATENATE(Rådata!C44,": ",Rådata!L44) -> TBASA-AV:
A24: =CONCATENATE(Rådata!C45,": ",Rådata!L45) -> TBASA-AV:
A25: =CONCATENATE(Rådata!C46,": ",Rådata!L46) -> TBASA-AV:
A26: =CONCATENATE(Rådata!C47,": ",Rådata!L47) -> TBASA-AV:
A27: =CONCATENATE(Rådata!C48,": ",Rådata!L48) -> TBASA-AV:
A28: =CONCATENATE(Rådata!C49,": ",Rådata!L49) -> TBASA-AV:
... A150: =CONCATENATE(Rådata!C171,": ",Rådata!L171) -> :

Sheet Kursinfo
A1: =Rådata!$A$1 -> Kursnr | B1: =Rådata!$B$1 -> HF0021
A2: =Rådata!$A$3 -> Datum | B2: =Rådata!$B$2 -> Matematik I
A3: =Rådata!A3 -> Datum | B3: =Rådata!$B$3 -> 190511
A17: =CONCATENATE(Rådata!C38,": ",Rådata!N38) -> TBASA-AV:
A18: =CONCATENATE(Rådata!C39,": ",Rådata!N39) -> TBASA-AV:
A19: =CONCATENATE(Rådata!C40,": ",Rådata!N40) -> TBASA-AV:
A20: =CONCATENATE(Rådata!C41,": ",Rådata!N41) -> TBASA-AV:
A21: =CONCATENATE(Rådata!C42,": ",Rådata!N42) -> TBASA-AV:
A22: =CONCATENATE(Rådata!C43,": ",Rådata!N43) -> TBASA-AV:
A23: =CONCATENATE(Rådata!C44,": ",Rådata!N44) -> TBASA-AV:
A24: =CONCATENATE(Rådata!C45,": ",Rådata!N45) -> TBASA-AV:
A25: =CONCATENATE(Rådata!C46,": ",Rådata!N46) -> TBASA-AV:
A26: =CONCATENATE(Rådata!C47,": ",Rådata!N47) -> TBASA-AV:
A27: =CONCATENATE(Rådata!C48,": ",Rådata!N48) -> TBASA-AV:
A28: =CONCATENATE(Rådata!C49,": ",Rådata!N49) -> TBASA-AV:
... A150: =CONCATENATE(Rådata!C171,": ",Rådata!N171) -> :

Sheet Litteratur
A1: =Rådata!$A$1 -> Kursnr | B1: =Rådata!$B$1 -> HF0021
A2: =Rådata!$A$3 -> Datum | B2: =Rådata!$B$2 -> Matematik I
A3: =Rådata!A3 -> Datum | B3: =Rådata!$B$3 -> 190511
A17: =CONCATENATE(Rådata!C38,": ",Rådata!P38) -> TBASA-AV:
A18: =CONCATENATE(Rådata!C39,": ",Rådata!P39) -> TBASA-AV:
A19: =CONCATENATE(Rådata!C40,": ",Rådata!P40) -> TBASA-AV:
A20: =CONCATENATE(Rådata!C41,": ",Rådata!P41) -> TBASA-AV:
A21: =CONCATENATE(Rådata!C42,": ",Rådata!P42) -> TBASA-AV:
A22: =CONCATENATE(Rådata!C43,": ",Rådata!P43) -> TBASA-AV:
A23: =CONCATENATE(Rådata!C44,": ",Rådata!P44) -> TBASA-AV:
A24: =CONCATENATE(Rådata!C45,": ",Rådata!P45) -> TBASA-AV:
A25: =CONCATENATE(Rådata!C46,": ",Rådata!P46) -> TBASA-AV:
A26: =CONCATENATE(Rådata!C47,": ",Rådata!P47) -> TBASA-AV:
A27: =CONCATENATE(Rådata!C48,": ",Rådata!P48) -> TBASA-AV:
A28: =CONCATENATE(Rådata!C49,": ",Rådata!P49) -> TBASA-AV:
... A150: =CONCATENATE(Rådata!C171,": ",Rådata!P171) -> :

Sheet Stämning
A1: =Rådata!$A$1 -> Kursnr | B1: =Rådata!$B$1 -> HF0021
A2: =Rådata!$A$3 -> Datum | B2: =Rådata!$B$2 -> Matematik I
A3: =Rådata!A3 -> Datum | B3: =Rådata!$B$3 -> 190511
A17: =CONCATENATE(Rådata!C38,": ",Rådata!R38) -> TBASA-AV:
A18: =CONCATENATE(Rådata!C39,": ",Rådata!R39) -> TBASA-AV:
A19: =CONCATENATE(Rådata!C40,": ",Rådata!R40) -> TBASA-AV:
A20: =CONCATENATE(Rådata!C41,": ",Rådata!R41) -> TBASA-AV:
A21: =CONCATENATE(Rådata!C42,": ",Rådata!R42) -> TBASA-AV:
A22: =CONCATENATE(Rådata!C43,": ",Rådata!R43) -> TBASA-AV:
A23: =CONCATENATE(Rådata!C44,": ",Rådata!R44) -> TBASA-AV:
A24: =CONCATENATE(Rådata!C45,": ",Rådata!R45) -> TBASA-AV:
A25: =CONCATENATE(Rådata!C46,": ",Rådata!R46) -> TBASA-AV:
A26: =CONCATENATE(Rådata!C47,": ",Rådata!R47) -> TBASA-AV:
A27: =CONCATENATE(Rådata!C48,": ",Rådata!R48) -> TBASA-AV:
A28: =CONCATENATE(Rådata!C49,": ",Rådata!R49) -> TBASA-AV:
... A150: =CONCATENATE(Rådata!C171,": ",Rådata!R171) -> :

Sheet Inkluderande
A1: =Rådata!$A$1 -> Kursnr | B1: =Rådata!$B$1 -> HF0021
A2: =Rådata!$A$3 -> Datum | B2: =Rådata!$B$2 -> Matematik I
A3: =Rådata!A3 -> Datum | B3: =Rådata!$B$3 -> 190511
A17: =CONCATENATE(Rådata!C38,": ",Rådata!T38) -> TBASA-AV:
A18: =CONCATENATE(Rådata!C39,": ",Rådata!T39) -> TBASA-AV:
A19: =CONCATENATE(Rådata!C40,": ",Rådata!T40) -> TBASA-AV:
A20: =CONCATENATE(Rådata!C41,": ",Rådata!T41) -> TBASA-AV:
A21: =CONCATENATE(Rådata!C42,": ",Rådata!T42) -> TBASA-AV:
A22: =CONCATENATE(Rådata!C43,": ",Rådata!T43) -> TBASA-AV:
A23: =CONCATENATE(Rådata!C44,": ",Rådata!T44) -> TBASA-AV:
A24: =CONCATENATE(Rådata!C45,": ",Rådata!T45) -> TBASA-AV:
A25: =CONCATENATE(Rådata!C46,": ",Rådata!T46) -> TBASA-AV:
A26: =CONCATENATE(Rådata!C47,": ",Rådata!T47) -> TBASA-AV:
A27: =CONCATENATE(Rådata!C48,": ",Rådata!T48) -> TBASA-AV:
A28: =CONCATENATE(Rådata!C49,": ",Rådata!T49) -> TBASA-AV:
... A150: =CONCATENATE(Rådata!C171,": ",Rådata!T171) -> :

Sheet Positiva
A1: =Rådata!$A$1 -> Kursnr | B1: =Rådata!$B$1 -> HF0021
A2: =Rådata!$A$3 -> Datum | B2: =Rådata!$B$2 -> Matematik I
A3: =Rådata!A3 -> Datum | B3: =Rådata!$B$3 -> 190511
A5: =Rådata!U37 -> Positiva synpunkter på kursen
A7: =CONCATENATE(Rådata!C38,": ",Rådata!U38) -> TBASA-AV:
A8: =CONCATENATE(Rådata!C39,": ",Rådata!U39) -> TBASA-AV:
A9: =CONCATENATE(Rådata!C40,": ",Rådata!U40) -> TBASA-AV: Mycket lektioner
A10: =CONCATENATE(Rådata!C41,": ",Rådata!U41) -> TBASA-AV:
A11: =CONCATENATE(Rådata!C42,": ",Rådata!U42) -> TBASA-AV: Kul
A12: =CONCATENATE(Rådata!C43,": ",Rådata!U43) -> TBASA-AV:
A13: =CONCATENATE(Rådata!C44,": ",Rådata!U44) -> TBASA-AV:
A14: =CONCATENATE(Rådata!C45,": ",Rådata!U45) -> TBASA-AV:
A15: =CONCATENATE(Rådata!C46,": ",Rådata!U46) -> TBASA-AV:
A16: =CONCATENATE(Rådata!C47,": ",Rådata!U47) -> TBASA-AV:
A17: =CONCATENATE(Rådata!C48,": ",Rådata!U48) -> TBASA-AV:
A18: =CONCATENATE(Rådata!C49,": ",Rådata!U49) -> TBASA-AV: Det var som bäst när man kunde fota allt som skulle skrivas på den ena sidans tavla medans läran började rita på den andra sidan
... A154: =CONCATENATE(Rådata!C185,": ",Rådata!U185) -> :

Sheet Förbättras
A1: =Rådata!$A$1 -> Kursnr | B1: =Rådata!$B$1 -> HF0021
A2: =Rådata!$A$3 -> Datum | B2: =Rådata!$B$2 -> Matematik I
A3: =Rådata!A3 -> Datum | B3: =Rådata!$B$3 -> 190511
A5: =Rådata!V37 -> Vad kan förbättras till nästa gång kursen ges? Ge gärna förslag!
A7: =CONCATENATE(Rådata!C38,": ",Rådata!V38) -> TBASA-AV:
A8: =CONCATENATE(Rådata!C39,": ",Rådata!V39) -> TBASA-AV:
A9: =CONCATENATE(Rådata!C40,": ",Rådata!V40) -> TBASA-AV: Gå igenom svårare uppgifter på lektionstid
A10: =CONCATENATE(Rådata!C41,": ",Rådata!V41) -> TBASA-AV:
A11: =CONCATENATE(Rådata!C42,": ",Rådata!V42) -> TBASA-AV: Lite mer öppet sinne
A12: =CONCATENATE(Rådata!C43,": ",Rådata!V43) -> TBASA-AV:
A13: =CONCATENATE(Rådata!C44,": ",Rådata!V44) -> TBASA-AV:
A14: =CONCATENATE(Rådata!C45,": ",Rådata!V45) -> TBASA-AV:
A15: =CONCATENATE(Rådata!C46,": ",Rådata!V46) -> TBASA-AV:
A16: =CONCATENATE(Rådata!C47,": ",Rådata!V47) -> TBASA-AV:
A17: =CONCATENATE(Rådata!C48,": ",Rådata!V48) -> TBASA-AV:
A18: =CONCATENATE(Rådata!C49,": ",Rådata!V49) -> TBASA-AV: Information som man ska hitta på hemsidan borde borde verkligen bara vara så lätt att få fram som en eller två knapptryckningar.
... A154: =CONCATENATE(Rådata!C185,": ",Rådata!V185) -> :

Sheet Nästa år
A1: =Rådata!$A$1 -> Kursnr | B1: =Rådata!$B$1 -> HF0021
A2: =Rådata!$A$3 -> Datum | B2: =Rådata!$B$2 -> Matematik I
A3: =Rådata!A3 -> Datum | B3: =Rådata!$B$3 -> 190511
A5: =Rådata!W37 -> Vilka råd skulle du vilja ge framtida kursdeltagare?
A7: =CONCATENATE(Rådata!C38,": ",Rådata!W38) -> TBASA-AV:
A8: =CONCATENATE(Rådata!C39,": ",Rådata!W39) -> TBASA-AV:
A9: =CONCATENATE(Rådata!C40,": ",Rådata!W40) -> TBASA-AV: Delta på alla lektioner
A10: =CONCATENATE(Rådata!C41,": ",Rådata!W41) -> TBASA-AV:
A11: =CONCATENATE(Rådata!C42,": ",Rådata!W42) -> TBASA-AV: Plugga
A12: =CONCATENATE(Rådata!C43,": ",Rådata!W43) -> TBASA-AV: Förstå att alla inte förstår.
A13: =CONCATENATE(Rådata!C44,": ",Rådata!W44) -> TBASA-AV:
A14: =CONCATENATE(Rådata!C45,": ",Rådata!W45) -> TBASA-AV:
A15: =CONCATENATE(Rådata!C46,": ",Rådata!W46) -> TBASA-AV:
A16: =CONCATENATE(Rådata!C47,": ",Rådata!W47) -> TBASA-AV:
A17: =CONCATENATE(Rådata!C48,": ",Rådata!W48) -> TBASA-AV:
A18: =CONCATENATE(Rådata!C49,": ",Rådata!W49) -> TBASA-AV: Funka elever borde verkligen be/få mejl adressen till personen som är ansvarig för att boka testsalar med extra funka tid.
... A154: =CONCATENATE(Rådata!C185,": ",Rådata!W185) -> :

Sheet Rådata
A1: Kursnr | B1: HF0021
A2: Namn | B2: Matematik I
A3: Datum | B3: 190511
A4: =D37 -> Jag är | B4: Annat/Vet ej | C4: TBASA-AV | D4: TBASA-BV | E4: - | F4: Alla | I4: =E37 -> Det här var en bra kurs | J4: =$B$4 -> Annat/Vet ej | K4: =$C$4 -> TBASA-AV | L4: =$D$4 -> TBASA-BV | M4: =$E$4 -> - | N4: =$F$4 -> Alla | Q4: =G37 -> Jag deltog på X% av lektionerna | R4: =$B$4 -> Annat/Vet ej | S4: =$C$4 -> TBASA-AV | T4: =$D$4 -> TBASA-BV | U4: =$E$4 -> - | V4: =$F$4 -> Alla
A5: Man | B5: =COUNTIFS($D$38:$D$295,$A5,$C$38:$C$295,B$4) -> 0 | C5: =COUNTIFS($D$38:$D$295,$A5,$C$38:$C$295,C$4) -> 10 | D5: =COUNTIFS($D$38:$D$295,$A5,$C$38:$C$295,D$4) -> 15 | E5: =COUNTIFS($D$38:$D$295,$A5,$C$38:$C$295,E$4) -> 0 | F5: =COUNTIF($D$38:$D$295,A5) -> 25 | H5: 1 | I5: =$H$5 -> 1 | J5: =COUNTIFS($E$38:$E$295,$I5,$C$38:$C$295,J$4) -> 0 | K5: =COUNTIFS($E$38:$E$295,$I5,$C$38:$C$295,K$4) -> 0 | L5: =COUNTIFS($E$38:$E$295,$I5,$C$38:$C$295,L$4) -> 0 | M5: =COUNTIFS($E$38:$E$295,$I5,$C$38:$C$295,M$4) -> 0 | N5: =COUNTIF($E$38:$E$295,I5) -> 0 | Q5: 0-20% | R5: =COUNTIFS($G$38:$G$295,$Q5,$C$38:$C$295,R$4) -> 0 | S5: =COUNTIFS($G$38:$G$295,$Q5,$C$38:$C$295,S$4) -> 0 | T5: =COUNTIFS($G$38:$G$295,$Q5,$C$38:$C$295,T$4) -> 0 | U5: =COUNTIFS($G$38:$G$295,$Q5,$C$38:$C$295,U$4) -> 0 | V5: =COUNTIF($G$38:$G$295,Q5) -> 0
A6: Kvinna | B6: =COUNTIFS($D$38:$D$295,$A6,$C$38:$C$295,B$4) -> 0 | C6: =COUNTIFS($D$38:$D$295,$A6,$C$38:$C$295,C$4) -> 3 | D6: =COUNTIFS($D$38:$D$295,$A6,$C$38:$C$295,D$4) -> 3 | E6: =COUNTIFS($D$38:$D$295,$A6,$C$38:$C$295,E$4) -> 0 | F6: =COUNTIF($D$38:$D$295,A6) -> 6 | H6: 2 | I6: =$H$6 -> 2 | J6: =COUNTIFS($E$38:$E$295,$I6,$C$38:$C$295,J$4) -> 0 | K6: =COUNTIFS($E$38:$E$295,$I6,$C$38:$C$295,K$4) -> 0 | L6: =COUNTIFS($E$38:$E$295,$I6,$C$38:$C$295,L$4) -> 1 | M6: =COUNTIFS($E$38:$E$295,$I6,$C$38:$C$295,M$4) -> 0 | N6: =COUNTIF($E$38:$E$295,I6) -> 1 | Q6: 21-40% | R6: =COUNTIFS($G$38:$G$295,$Q6,$C$38:$C$295,R$4) -> 0 | S6: =COUNTIFS($G$38:$G$295,$Q6,$C$38:$C$295,S$4) -> 0 | T6: =COUNTIFS($G$38:$G$295,$Q6,$C$38:$C$295,T$4) -> 0 | U6: =COUNTIFS($G$38:$G$295,$Q6,$C$38:$C$295,U$4) -> 0 | V6: =COUNTIF($G$38:$G$295,Q6) -> 0
A7: Annat | B7: =COUNTIFS($D$38:$D$295,$A7,$C$38:$C$295,B$4) -> 0 | C7: =COUNTIFS($D$38:$D$295,$A7,$C$38:$C$295,C$4) -> 0 | D7: =COUNTIFS($D$38:$D$295,$A7,$C$38:$C$295,D$4) -> 1 | E7: =COUNTIFS($D$38:$D$295,$A7,$C$38:$C$295,E$4) -> 0 | F7: =COUNTIF($D$38:$D$295,A7) -> 1 | H7: 3 | I7: =$H$7 -> 3 | J7: =COUNTIFS($E$38:$E$295,$I7,$C$38:$C$295,J$4) -> 0 | K7: =COUNTIFS($E$38:$E$295,$I7,$C$38:$C$295,K$4) -> 8 | L7: =COUNTIFS($E$38:$E$295,$I7,$C$38:$C$295,L$4) -> 1 | M7: =COUNTIFS($E$38:$E$295,$I7,$C$38:$C$295,M$4) -> 0 | N7: =COUNTIF($E$38:$E$295,I7) -> 9 | Q7: 41-60% | R7: =COUNTIFS($G$38:$G$295,$Q7,$C$38:$C$295,R$4) -> 0 | S7: =COUNTIFS($G$38:$G$295,$Q7,$C$38:$C$295,S$4) -> 1 | T7: =COUNTIFS($G$38:$G$295,$Q7,$C$38:$C$295,T$4) -> 1 | U7: =COUNTIFS($G$38:$G$295,$Q7,$C$38:$C$295,U$4) -> 0 | V7: =COUNTIF($G$38:$G$295,Q7) -> 2
A8: Vill ej uppge | B8: =COUNTIFS($D$38:$D$295,$A8,$C$38:$C$295,B$4) -> 0 | C8: =COUNTIFS($D$38:$D$295,$A8,$C$38:$C$295,C$4) -> 0 | D8: =COUNTIFS($D$38:$D$295,$A8,$C$38:$C$295,D$4) -> 0 | E8: =COUNTIFS($D$38:$D$295,$A8,$C$38:$C$295,E$4) -> 0 | F8: =COUNTIF($D$38:$D$295,A8) -> 0 | H8: 4 | I8: =$H$8 -> 4 | J8: =COUNTIFS($E$38:$E$295,$I8,$C$38:$C$295,J$4) -> 0 | K8: =COUNTIFS($E$38:$E$295,$I8,$C$38:$C$295,K$4) -> 1 | L8: =COUNTIFS($E$38:$E$295,$I8,$C$38:$C$295,L$4) -> 11 | M8: =COUNTIFS($E$38:$E$295,$I8,$C$38:$C$295,M$4) -> 0 | N8: =COUNTIF($E$38:$E$295,I8) -> 12 | Q8: 61-80% | R8: =COUNTIFS($G$38:$G$295,$Q8,$C$38:$C$295,R$4) -> 0 | S8: =COUNTIFS($G$38:$G$295,$Q8,$C$38:$C$295,S$4) -> 1 | T8: =COUNTIFS($G$38:$G$295,$Q8,$C$38:$C$295,T$4) -> 2 | U8: =COUNTIFS($G$38:$G$295,$Q8,$C$38:$C$295,U$4) -> 0 | V8: =COUNTIF($G$38:$G$295,Q8) -> 3
A9: Summa | B9: =SUM(B5:B8) -> 0 | C9: =SUM(C5:C8) -> 13 | D9: =SUM(D5:D8) -> 19 | E9: =SUM(E5:E8) -> 0 | F9: =SUM(F5:F8) -> 32 | H9: 5 | I9: =$H$9 -> 5 | J9: =COUNTIFS($E$38:$E$295,$I9,$C$38:$C$295,J$4) -> 0 | K9: =COUNTIFS($E$38:$E$295,$I9,$C$38:$C$295,K$4) -> 4 | L9: =COUNTIFS($E$38:$E$295,$I9,$C$38:$C$295,L$4) -> 6 | M9: =COUNTIFS($E$38:$E$295,$I9,$C$38:$C$295,M$4) -> 0 | N9: =COUNTIF($E$38:$E$295,I9) -> 10 | Q9: 81-100% | R9: =COUNTIFS($G$38:$G$295,$Q9,$C$38:$C$295,R$4) -> 0 | S9: =COUNTIFS($G$38:$G$295,$Q9,$C$38:$C$295,S$4) -> 11 | T9: =COUNTIFS($G$38:$G$295,$Q9,$C$38:$C$295,T$4) -> 16 | U9: =COUNTIFS($G$38:$G$295,$Q9,$C$38:$C$295,U$4) -> 0 | V9: =COUNTIF($G$38:$G$295,Q9) -> 27
I10: Medel | J10: =SUMPRODUCT($I$5:$I$9,J5:J9)/SUM(J5:J9) -> #DIV/0! | K10: =SUMPRODUCT($I$5:$I$9,K5:K9)/SUM(K5:K9) -> 3.6923077 | L10: =SUMPRODUCT($I$5:$I$9,L5:L9)/SUM(L5:L9) -> 4.1578947 | M10: =SUMPRODUCT($I$5:$I$9,M5:M9)/SUM(M5:M9) -> #DIV/0! | N10: =SUMPRODUCT($I$5:$I$9,N5:N9)/SUM(N5:N9) -> 3.96875
A12: =I37 -> Lektionerna var lärorika | B12: =$B$4 -> Annat/Vet ej | C12: =$C$4 -> TBASA-AV | D12: =$D$4 -> TBASA-BV | E12: =$E$4 -> - | F12: =$F$4 -> Alla | Q12: =K37 -> Mina förkunskaper var tillräckliga | R12: =$B$4 -> Annat/Vet ej | S12: =$C$4 -> TBASA-AV | T12: =$D$4 -> TBASA-BV | U12: =$E$4 -> - | V12: =$F$4 -> Alla
A13: =$H$5 -> 1 | B13: =COUNTIFS($I$38:$I$295,$A13,$C$38:$C$295,B$12) -> 0 | C13: =COUNTIFS($I$38:$I$295,$A13,$C$38:$C$295,C$12) -> 0 | D13: =COUNTIFS($I$38:$I$295,$A13,$C$38:$C$295,D$12) -> 0 | E13: =COUNTIFS($I$38:$I$295,$A13,$C$38:$C$295,E$12) -> 0 | F13: =COUNTIF($I$38:$I$295,A13) -> 0 | Q13: =$H$5 -> 1 | R13: =COUNTIFS($K$38:$K$295,$Q13,$C$38:$C$295,R$12) -> 0 | S13: =COUNTIFS($K$38:$K$295,$Q13,$C$38:$C$295,S$12) -> 2 | T13: =COUNTIFS($K$38:$K$295,$Q13,$C$38:$C$295,T$12) -> 1 | U13: =COUNTIFS($K$38:$K$295,$Q13,$C$38:$C$295,U$12) -> 0 | V13: =COUNTIF($K$38:$K$295,Q13) -> 3
A14: =$H$6 -> 2 | B14: =COUNTIFS($I$38:$I$295,$A14,$C$38:$C$295,B$12) -> 0 | C14: =COUNTIFS($I$38:$I$295,$A14,$C$38:$C$295,C$12) -> 0 | D14: =COUNTIFS($I$38:$I$295,$A14,$C$38:$C$295,D$12) -> 0 | E14: =COUNTIFS($I$38:$I$295,$A14,$C$38:$C$295,E$12) -> 0 | F14: =COUNTIF($I$38:$I$295,A14) -> 0 | Q14: =$H$6 -> 2 | R14: =COUNTIFS($K$38:$K$295,$Q14,$C$38:$C$295,R$12) -> 0 | S14: =COUNTIFS($K$38:$K$295,$Q14,$C$38:$C$295,S$12) -> 2 | T14: =COUNTIFS($K$38:$K$295,$Q14,$C$38:$C$295,T$12) -> 2 | U14: =COUNTIFS($K$38:$K$295,$Q14,$C$38:$C$295,U$12) -> 0 | V14: =COUNTIF($K$38:$K$295,Q14) -> 4
A15: =$H$7 -> 3 | B15: =COUNTIFS($I$38:$I$295,$A15,$C$38:$C$295,B$12) -> 0 | C15: =COUNTIFS($I$38:$I$295,$A15,$C$38:$C$295,C$12) -> 6 | D15: =COUNTIFS($I$38:$I$295,$A15,$C$38:$C$295,D$12) -> 3 | E15: =COUNTIFS($I$38:$I$295,$A15,$C$38:$C$295,E$12) -> 0 | F15: =COUNTIF($I$38:$I$295,A15) -> 9 | Q15: =$H$7 -> 3 | R15: =COUNTIFS($K$38:$K$295,$Q15,$C$38:$C$295,R$12) -> 0 | S15: =COUNTIFS($K$38:$K$295,$Q15,$C$38:$C$295,S$12) -> 1 | T15: =COUNTIFS($K$38:$K$295,$Q15,$C$38:$C$295,T$12) -> 5 | U15: =COUNTIFS($K$38:$K$295,$Q15,$C$38:$C$295,U$12) -> 0 | V15: =COUNTIF($K$38:$K$295,Q15) -> 6
A16: =$H$8 -> 4 | B16: =COUNTIFS($I$38:$I$295,$A16,$C$38:$C$295,B$12) -> 0 | C16: =COUNTIFS($I$38:$I$295,$A16,$C$38:$C$295,C$12) -> 3 | D16: =COUNTIFS($I$38:$I$295,$A16,$C$38:$C$295,D$12) -> 9 | E16: =COUNTIFS($I$38:$I$295,$A16,$C$38:$C$295,E$12) -> 0 | F16: =COUNTIF($I$38:$I$295,A16) -> 12 | Q16: =$H$8 -> 4 | R16: =COUNTIFS($K$38:$K$295,$Q16,$C$38:$C$295,R$12) -> 0 | S16: =COUNTIFS($K$38:$K$295,$Q16,$C$38:$C$295,S$12) -> 4 | T16: =COUNTIFS($K$38:$K$295,$Q16,$C$38:$C$295,T$12) -> 8 | U16: =COUNTIFS($K$38:$K$295,$Q16,$C$38:$C$295,U$12) -> 0 | V16: =COUNTIF($K$38:$K$295,Q16) -> 12
A17: =$H$9 -> 5 | B17: =COUNTIFS($I$38:$I$295,$A17,$C$38:$C$295,B$12) -> 0 | C17: =COUNTIFS($I$38:$I$295,$A17,$C$38:$C$295,C$12) -> 4 | D17: =COUNTIFS($I$38:$I$295,$A17,$C$38:$C$295,D$12) -> 7 | E17: =COUNTIFS($I$38:$I$295,$A17,$C$38:$C$295,E$12) -> 0 | F17: =COUNTIF($I$38:$I$295,A17) -> 11 | Q17: =$H$9 -> 5 | R17: =COUNTIFS($K$38:$K$295,$Q17,$C$38:$C$295,R$12) -> 0 | S17: =COUNTIFS($K$38:$K$295,$Q17,$C$38:$C$295,S$12) -> 4 | T17: =COUNTIFS($K$38:$K$295,$Q17,$C$38:$C$295,T$12) -> 3 | U17: =COUNTIFS($K$38:$K$295,$Q17,$C$38:$C$295,U$12) -> 0 | V17: =COUNTIF($K$38:$K$295,Q17) -> 7
A18: Medel | B18: =SUMPRODUCT($A$13:$A$17,B13:B17)/SUM(B13:B17) -> #DIV/0! | C18: =SUMPRODUCT($A$13:$A$17,C13:C17)/SUM(C13:C17) -> 3.8461538 | D18: =SUMPRODUCT($A$13:$A$17,D13:D17)/SUM(D13:D17) -> 4.2105263 | E18: =SUMPRODUCT($A$13:$A$17,E13:E17)/SUM(E13:E17) -> #DIV/0! | F18: =SUMPRODUCT($A$13:$A$17,F13:F17)/SUM(F13:F17) -> 4.0625 | Q18: Medel | R18: =SUMPRODUCT($Q$13:$Q$17,R13:R17)/SUM(R13:R17) -> #DIV/0! | S18: =SUMPRODUCT($Q$13:$Q$17,S13:S17)/SUM(S13:S17) -> 3.4615385 | T18: =SUMPRODUCT($Q$13:$Q$17,T13:T17)/SUM(T13:T17) -> 3.5263158 | U18: =SUMPRODUCT($Q$13:$Q$17,U13:U17)/SUM(U13:U17) -> #DIV/0! | V18: =SUMPRODUCT($Q$13:$Q$17,V13:V17)/SUM(V13:V17) -> 3.5
A20: =M37 -> Kursinformationen var tydlig | B20: =$B$4 -> Annat/Vet ej | C20: =$C$4 -> TBASA-AV | D20: =$D$4 -> TBASA-BV | E20: =$E$4 -> - | F20: =$F$4 -> Alla | I20: =O37 -> Kurslitteraturen är bra | J20: =$B$4 -> Annat/Vet ej | K20: =$C$4 -> TBASA-AV | L20: =$D$4 -> TBASA-BV | M20: =$E$4 -> - | N20: =$F$4 -> Alla | Q20: =Q37 -> Stämningen i klassen var god | R20: =$B$4 -> Annat/Vet ej | S20: =$C$4 -> TBASA-AV | T20: =$D$4 -> TBASA-BV | U20: =$E$4 -> - | V20: =$F$4 -> Alla
A21: =$H$5 -> 1 | B21: =COUNTIFS($M$38:$M$295,$A21,$C$38:$C$295,B$20) -> 0 | C21: =COUNTIFS($M$38:$M$295,$A21,$C$38:$C$295,C$20) -> 0 | D21: =COUNTIFS($M$38:$M$295,$A21,$C$38:$C$295,D$20) -> 0 | E21: =COUNTIFS($M$38:$M$295,$A21,$C$38:$C$295,E$20) -> 0 | F21: =COUNTIF($M$38:$M$295,A21) -> 0 | I21: =$H$5 -> 1 | J21: =COUNTIFS($O$38:$O$295,$I21,$C$38:$C$295,J$20) -> 0 | K21: =COUNTIFS($O$38:$O$295,$I21,$C$38:$C$295,K$20) -> 0 | L21: =COUNTIFS($O$38:$O$295,$I21,$C$38:$C$295,L$20) -> 0 | M21: =COUNTIFS($O$38:$O$295,$I21,$C$38:$C$295,M$20) -> 0 | N21: =COUNTIF($O$38:$O$295,I21) -> 0 | Q21: =$H$5 -> 1 | R21: =COUNTIFS($Q$38:$Q$295,$Q21,$C$38:$C$295,R$20) -> 0 | S21: =COUNTIFS($Q$38:$Q$295,$Q21,$C$38:$C$295,S$20) -> 0 | T21: =COUNTIFS($Q$38:$Q$295,$Q21,$C$38:$C$295,T$20) -> 1 | U21: =COUNTIFS($Q$38:$Q$295,$Q21,$C$38:$C$295,U$20) -> 0 | V21: =COUNTIF($Q$38:$Q$295,Q21) -> 1
A22: =$H$6 -> 2 | B22: =COUNTIFS($M$38:$M$295,$A22,$C$38:$C$295,B$20) -> 0 | C22: =COUNTIFS($M$38:$M$295,$A22,$C$38:$C$295,C$20) -> 0 | D22: =COUNTIFS($M$38:$M$295,$A22,$C$38:$C$295,D$20) -> 2 | E22: =COUNTIFS($M$38:$M$295,$A22,$C$38:$C$295,E$20) -> 0 | F22: =COUNTIF($M$38:$M$295,A22) -> 2 | I22: =$H$6 -> 2 | J22: =COUNTIFS($O$38:$O$295,$I22,$C$38:$C$295,J$20) -> 0 | K22: =COUNTIFS($O$38:$O$295,$I22,$C$38:$C$295,K$20) -> 0 | L22: =COUNTIFS($O$38:$O$295,$I22,$C$38:$C$295,L$20) -> 1 | M22: =COUNTIFS($O$38:$O$295,$I22,$C$38:$C$295,M$20) -> 0 | N22: =COUNTIF($O$38:$O$295,I22) -> 1 | Q22: =$H$6 -> 2 | R22: =COUNTIFS($Q$38:$Q$295,$Q22,$C$38:$C$295,R$20) -> 0 | S22: =COUNTIFS($Q$38:$Q$295,$Q22,$C$38:$C$295,S$20) -> 0 | T22: =COUNTIFS($Q$38:$Q$295,$Q22,$C$38:$C$295,T$20) -> 1 | U22: =COUNTIFS($Q$38:$Q$295,$Q22,$C$38:$C$295,U$20) -> 0 | V22: =COUNTIF($Q$38:$Q$295,Q22) -> 1
A23: =$H$7 -> 3 | B23: =COUNTIFS($M$38:$M$295,$A23,$C$38:$C$295,B$20) -> 0 | C23: =COUNTIFS($M$38:$M$295,$A23,$C$38:$C$295,C$20) -> 3 | D23: =COUNTIFS($M$38:$M$295,$A23,$C$38:$C$295,D$20) -> 1 | E23: =COUNTIFS($M$38:$M$295,$A23,$C$38:$C$295,E$20) -> 0 | F23: =COUNTIF($M$38:$M$295,A23) -> 4 | I23: =$H$7 -> 3 | J23: =COUNTIFS($O$38:$O$295,$I23,$C$38:$C$295,J$20) -> 0 | K23: =COUNTIFS($O$38:$O$295,$I23,$C$38:$C$295,K$20) -> 3 | L23: =COUNTIFS($O$38:$O$295,$I23,$C$38:$C$295,L$20) -> 4 | M23: =COUNTIFS($O$38:$O$295,$I23,$C$38:$C$295,M$20) -> 0 | N23: =COUNTIF($O$38:$O$295,I23) -> 7 | Q23: =$H$7 -> 3 | R23: =COUNTIFS($Q$38:$Q$295,$Q23,$C$38:$C$295,R$20) -> 0 | S23: =COUNTIFS($Q$38:$Q$295,$Q23,$C$38:$C$295,S$20) -> 0 | T23: =COUNTIFS($Q$38:$Q$295,$Q23,$C$38:$C$295,T$20) -> 2 | U23: =COUNTIFS($Q$38:$Q$295,$Q23,$C$38:$C$295,U$20) -> 0 | V23: =COUNTIF($Q$38:$Q$295,Q23) -> 2
A24: =$H$8 -> 4 | B24: =COUNTIFS($M$38:$M$295,$A24,$C$38:$C$295,B$20) -> 0 | C24: =COUNTIFS($M$38:$M$295,$A24,$C$38:$C$295,C$20) -> 7 | D24: =COUNTIFS($M$38:$M$295,$A24,$C$38:$C$295,D$20) -> 9 | E24: =COUNTIFS($M$38:$M$295,$A24,$C$38:$C$295,E$20) -> 0 | F24: =COUNTIF($M$38:$M$295,A24) -> 16 | I24: =$H$8 -> 4 | J24: =COUNTIFS($O$38:$O$295,$I24,$C$38:$C$295,J$20) -> 0 | K24: =COUNTIFS($O$38:$O$295,$I24,$C$38:$C$295,K$20) -> 5 | L24: =COUNTIFS($O$38:$O$295,$I24,$C$38:$C$295,L$20) -> 8 | M24: =COUNTIFS($O$38:$O$295,$I24,$C$38:$C$295,M$20) -> 0 | N24: =COUNTIF($O$38:$O$295,I24) -> 13 | Q24: =$H$8 -> 4 | R24: =COUNTIFS($Q$38:$Q$295,$Q24,$C$38:$C$295,R$20) -> 0 | S24: =COUNTIFS($Q$38:$Q$295,$Q24,$C$38:$C$295,S$20) -> 5 | T24: =COUNTIFS($Q$38:$Q$295,$Q24,$C$38:$C$295,T$20) -> 6 | U24: =COUNTIFS($Q$38:$Q$295,$Q24,$C$38:$C$295,U$20) -> 0 | V24: =COUNTIF($Q$38:$Q$295,Q24) -> 11
A25: =$H$9 -> 5 | B25: =COUNTIFS($M$38:$M$295,$A25,$C$38:$C$295,B$20) -> 0 | C25: =COUNTIFS($M$38:$M$295,$A25,$C$38:$C$295,C$20) -> 3 | D25: =COUNTIFS($M$38:$M$295,$A25,$C$38:$C$295,D$20) -> 7 | E25: =COUNTIFS($M$38:$M$295,$A25,$C$38:$C$295,E$20) -> 0 | F25: =COUNTIF($M$38:$M$295,A25) -> 10 | I25: =$H$9 -> 5 | J25: =COUNTIFS($O$38:$O$295,$I25,$C$38:$C$295,J$20) -> 0 | K25: =COUNTIFS($O$38:$O$295,$I25,$C$38:$C$295,K$20) -> 5 | L25: =COUNTIFS($O$38:$O$295,$I25,$C$38:$C$295,L$20) -> 6 | M25: =COUNTIFS($O$38:$O$295,$I25,$C$38:$C$295,M$20) -> 0 | N25: =COUNTIF($O$38:$O$295,I25) -> 11 | Q25: =$H$9 -> 5 | R25: =COUNTIFS($Q$38:$Q$295,$Q25,$C$38:$C$295,R$20) -> 0 | S25: =COUNTIFS($Q$38:$Q$295,$Q25,$C$38:$C$295,S$20) -> 8 | T25: =COUNTIFS($Q$38:$Q$295,$Q25,$C$38:$C$295,T$20) -> 9 | U25: =COUNTIFS($Q$38:$Q$295,$Q25,$C$38:$C$295,U$20) -> 0 | V25: =COUNTIF($Q$38:$Q$295,Q25) -> 17
A26: Medel | B26: =SUMPRODUCT($A$21:$A$25,B21:B25)/SUM(B21:B25) -> #DIV/0! | C26: =SUMPRODUCT($A$21:$A$25,C21:C25)/SUM(C21:C25) -> 4 | D26: =SUMPRODUCT($A$21:$A$25,D21:D25)/SUM(D21:D25) -> 4.1052632 | E26: =SUMPRODUCT($A$21:$A$25,E21:E25)/SUM(E21:E25) -> #DIV/0! | F26: =SUMPRODUCT($A$21:$A$25,F21:F25)/SUM(F21:F25) -> 4.0625 | I26: Medel | J26: =SUMPRODUCT($I$21:$I$25,J21:J25)/SUM(J21:J25) -> #DIV/0! | K26: =SUMPRODUCT($I$21:$I$25,K21:K25)/SUM(K21:K25) -> 4.1538462 | L26: =SUMPRODUCT($I$21:$I$25,L21:L25)/SUM(L21:L25) -> 4 | M26: =SUMPRODUCT($I$21:$I$25,M21:M25)/SUM(M21:M25) -> #DIV/0! | N26: =SUMPRODUCT($I$21:$I$25,N21:N25)/SUM(N21:N25) -> 4.0625 | Q26: Medel | R26: =SUMPRODUCT($Q$21:$Q$25,R21:R25)/SUM(R21:R25) -> #DIV/0! | S26: =SUMPRODUCT($Q$21:$Q$25,S21:S25)/SUM(S21:S25) -> 4.6153846 | T26: =SUMPRODUCT($Q$21:$Q$25,T21:T25)/SUM(T21:T25) -> 4.1052632 | U26: =SUMPRODUCT($Q$21:$Q$25,U21:U25)/SUM(U21:U25) -> #DIV/0! | V26: =SUMPRODUCT($Q$21:$Q$25,V21:V25)/SUM(V21:V25) -> 4.3125
A28: =S37 -> Undervisningen kännetecknades av ett öppet och inkluderande klimat | B28: =$B$4 -> Annat/Vet ej | C28: =$C$4 -> TBASA-AV | D28: =$D$4 -> TBASA-BV | E28: =$E$4 -> - | F28: =$F$4 -> Alla
A29: =$H$5 -> 1 | B29: =COUNTIFS($S$38:$S$295,$A29,$C$38:$C$295,B$28) -> 0 | C29: =COUNTIFS($S$38:$S$295,$A29,$C$38:$C$295,C$28) -> 1 | D29: =COUNTIFS($S$38:$S$295,$A29,$C$38:$C$295,D$28) -> 0 | E29: =COUNTIFS($S$38:$S$295,$A29,$C$38:$C$295,E$28) -> 0 | F29: =COUNTIF($S$38:$S$295,A29) -> 1
A30: =$H$6 -> 2 | B30: =COUNTIFS($S$38:$S$295,$A30,$C$38:$C$295,B$28) -> 0 | C30: =COUNTIFS($S$38:$S$295,$A30,$C$38:$C$295,C$28) -> 0 | D30: =COUNTIFS($S$38:$S$295,$A30,$C$38:$C$295,D$28) -> 1 | E30: =COUNTIFS($S$38:$S$295,$A30,$C$38:$C$295,E$28) -> 0 | F30: =COUNTIF($S$38:$S$295,A30) -> 1
A31: =$H$7 -> 3 | B31: =COUNTIFS($S$38:$S$295,$A31,$C$38:$C$295,B$28) -> 0 | C31: =COUNTIFS($S$38:$S$295,$A31,$C$38:$C$295,C$28) -> 6 | D31: =COUNTIFS($S$38:$S$295,$A31,$C$38:$C$295,D$28) -> 1 | E31: =COUNTIFS($S$38:$S$295,$A31,$C$38:$C$295,E$28) -> 0 | F31: =COUNTIF($S$38:$S$295,A31) -> 7
A32: =$H$8 -> 4 | B32: =COUNTIFS($S$38:$S$295,$A32,$C$38:$C$295,B$28) -> 0 | C32: =COUNTIFS($S$38:$S$295,$A32,$C$38:$C$295,C$28) -> 4 | D32: =COUNTIFS($S$38:$S$295,$A32,$C$38:$C$295,D$28) -> 7 | E32: =COUNTIFS($S$38:$S$295,$A32,$C$38:$C$295,E$28) -> 0 | F32: =COUNTIF($S$38:$S$295,A32) -> 11
A33: =$H$9 -> 5 | B33: =COUNTIFS($S$38:$S$295,$A33,$C$38:$C$295,B$28) -> 0 | C33: =COUNTIFS($S$38:$S$295,$A33,$C$38:$C$295,C$28) -> 2 | D33: =COUNTIFS($S$38:$S$295,$A33,$C$38:$C$295,D$28) -> 10 | E33: =COUNTIFS($S$38:$S$295,$A33,$C$38:$C$295,E$28) -> 0 | F33: =COUNTIF($S$38:$S$295,A33) -> 12
A34: Medel | B34: =SUMPRODUCT($A$29:$A$33,B29:B33)/SUM(B29:B33) -> #DIV/0! | C34: =SUMPRODUCT($A$29:$A$33,C29:C33)/SUM(C29:C33) -> 3.4615385 | D34: =SUMPRODUCT($A$29:$A$33,D29:D33)/SUM(D29:D33) -> 4.3684211 | E34: =SUMPRODUCT($A$29:$A$33,E29:E33)/SUM(E29:E33) -> #DIV/0! | F34: =SUMPRODUCT($A$29:$A$33,F29:F33)/SUM(F29:F33) -> 4
A36: Svarsdatum | B36: Inloggad användare | C36: Jag går i klass | D36: Jag är | E36: Det här var en bra kurs | F36: Kommentar till ovanstående fråga (valfritt) | G36: Jag deltog på X% av lektionerna | H36: Kommentar till ovanstående fråga (valfritt) | I36: Lektionerna var lärorika | J36: Kommentar till ovanstående fråga (valfritt) | K36: Mina förkunskaper var tillräckliga | L36: Kommentar till ovanstående fråga (valfritt) | M36: Kursinformationen var tydlig | N36: Kommentar till ovanstående fråga (valfritt) | O36: Kurslitteraturen är bra | P36: Kommentar till ovanstående fråga (valfritt) | Q36: Stämningen i klassen var god | R36: Kommentar till ovanstående fråga (valfritt) | S36: Undervisningen kännetecknades av ett öppet och inkluderande klimat | T36: Kommentar till ovanstående fråga (valfritt) | U36: Positiva synpunkter på kursen | V36: Vad kan förbättras till nästa gång kursen ges? Ge gärna förslag! | W36: Vilka råd skulle du vilja ge framtida kursdeltagare?
A37: Svarsdatum | B37: Inloggad användare | C37: Jag går i klass | D37: Jag är | E37: Det här var en bra kurs | F37: Kommentar till ovanstående fråga (valfritt) | G37: Jag deltog på X% av lektionerna | H37: Kommentar till ovanstående fråga (valfritt) | I37: Lektionerna var lärorika | J37: Kommentar till ovanstående fråga (valfritt) | K37: Mina förkunskaper var tillräckliga | L37: Kommentar till ovanstående fråga (valfritt) | M37: Kursinformationen var tydlig | N37: Kommentar till ovanstående fråga (valfritt) | O37: Kurslitteraturen är bra | P37: Kommentar till ovanstående fråga (valfritt) | Q37: Stämningen i klassen var god | R37: Kommentar till ovanstående fråga (valfritt) | S37: Undervisningen kännetecknades av ett öppet och inkluderande klimat | T37: Kommentar till ovanstående fråga (valfritt) | U37: Positiva synpunkter på kursen | V37: Vad kan förbättras till nästa gång kursen ges? Ge gärna förslag! | W37: Vilka råd skulle du vilja ge framtida kursdeltagare?
A38: 2019-05-07 13:21:44 | C38: TBASA-AV | D38: Man | E38: 5 | G38: 81-100% | I38: 5 | K38: 3 | M38: 3 | O38: 5 | Q38: 5 | S38: 3
A39: 2019-05-07 13:22:26 | C39: TBASA-AV | D39: Man | E39: 4 | G39: 81-100% | I39: 5 | K39: 5 | M39: 5 | O39: 5 | Q39: 5 | S39: 5
A40: 2019-05-07 13:22:39 | C40: TBASA-AV | D40: Kvinna | E40: 3 | G40: 81-100% | I40: 4 | K40: 4 | M40: 4 | O40: 4 | Q40: 4 | S40: 4 | U40: Mycket lektioner | V40: Gå igenom svårare uppgifter på lektionstid | W40: Delta på alla lektioner
A41: 2019-05-07 13:22:55 | C41: TBASA-AV | D41: Man | E41: 3 | G41: 81-100% | I41: 3 | K41: 4 | M41: 4 | O41: 5 | Q41: 5 | S41: 3
A42: 2019-05-07 13:22:58 | C42: TBASA-AV | D42: Man | E42: 3 | G42: 81-100% | I42: 3 | K42: 4 | M42: 4 | O42: 5 | Q42: 5 | S42: 4 | U42: Kul | V42: Lite mer öppet sinne | W42: Plugga
A43: 2019-05-07 13:23:50 | C43: TBASA-AV | D43: Kvinna | E43: 3 | G43: 81-100% | I43: 3 | K43: 1 | M43: 4 | O43: 3 | Q43: 4 | S43: 3 | W43: Förstå att alla inte förstår.
A44: 2019-05-07 13:24:43 | C44: TBASA-AV | D44: Man | E44: 5 | G44: 81-100% | I44: 5 | K44: 5 | M44: 5 | O44: 5 | Q44: 5 | S44: 4
...
