Workbook

Sheet Jag är
A1: =Rådata!$A$1 -> Kursnr | B1: =Rådata!$B$1 -> HF0021
A2: =Rådata!$A$3 -> Datum | B2: =Rådata!$B$2 -> Matematik I
A3: =Rådata!A3 -> Datum | B3: =Rådata!$B$3 -> 190511

Sheet Bra kurs
A1: =Rådata!$A$1 -> Kursnr | B1: =Rådata!$B$1 -> HF0021
A2: =Rådata!$A$3 -> Datum | B2: =Rådata!$B$2 -> Matematik I
A3: =Rådata!A3 -> Datum | B3: =Rådata!$B$3 -> 190511
A17: =CONCATENATE(Rådata!C38,": ",Rådata!F38) -> TBASA-AV:
A18: =CONCATENATE(Rådata!C39,": ",Rådata!F39) -> TBASA-AV:
A19: =CONCATENATE(Rådata!C40,": ",Rådata!F40) -> TBASA-AV:
A20: =CONCATENATE(Rådata!C41,": ",Rådata!F41) -> TBASA-AV:
A21: =CONCATENATE(Rådata!C42,": ",Rådata!F42) -> TBASA-AV:
A22: =CONCATENATE(Rådata!C43,": ",Rådata!F43) -> TBASA-AV:
A23: =CONCATENATE(Rådata!C44,": ",Rådata!F44) -> TBASA-AV:
A24: =CONCATENATE(Rådata!C45,": ",Rådata!F45) -> TBASA-AV:
A25: =CONCATENATE(Rådata!C46,": ",Rådata!F46) -> TBASA-AV:
A26: =CONCATENATE(Rådata!C47,": ",Rådata!F47) -> TBASA-AV:
A27: =CONCATENATE(Rådata!C48,": ",Rådata!F48) -> TBASA-AV:
A28: =CONCATENATE(Rådata!C49,": ",Rådata!F49) -> TBASA-AV:
... A150: =CONCATENATE(Rådata!C171,": ",Rådata!F171) -> :

Sheet Deltog
A1: =Rådata!$A$1 -> Kursnr | B1: =Rådata!$B$1 -> HF0021
A2: =Rådata!$A$3 -> Datum | B2: =Rådata!$B$2 -> Matematik I
A3: =Rådata!A3 -> Datum | B3: =Rådata!$B$3 -> 190511
A17: =CONCATENATE(Rådata!C38,": ",Rådata!H38) -> TBASA-AV:
A18: =CONCATENATE(Rådata!C39,": ",Rådata!H39) -> TBASA-AV:
A19: =CONCATENATE(Rådata!C40,": ",Rådata!H40) -> TBASA-AV:
A20: =CONCATENATE(Rådata!C41,": ",Rådata!H41) -> TBASA-AV:
A21: =CONCATENATE(Rådata!C42,": ",Rådata!H42) -> TBASA-AV:
A22: =CONCATENATE(Rådata!C43,": ",Rådata!H43) -> TBASA-AV:
A23: =CONCATENATE(Rådata!C44,": ",Rådata!H44) -> TBASA-AV:
A24: =CONCATENATE(Rådata!C45,": ",Rådata!H45) -> TBASA-AV:
A25: =CONCATENATE(Rådata!C46,": ",Rådata!H46) -> TBASA-AV:
A26: =CONCATENATE(Rådata!C47,": ",Rådata!H47) -> TBASA-AV:
A27: =CONCATENATE(Rådata!C48,": ",Rådata!H48) -> TBASA-AV:
A28: =CONCATENATE(Rådata!C49,": ",Rådata!H49) -> TBASA-AV:
... A150: =CONCATENATE(Rådata!C171,": ",Rådata!H171) -> :

Sheet Lekt-lärorika
A1: =Rådata!$A$1 -> Kursnr | B1: =Rådata!$B$1 -> HF0021
A2: =Rådata!$A$3 -> Datum | B2: =Rådata!$B$2 -> Matematik I
A3: =Rådata!A3 -> Datum | B3: =Rådata!$B$3 -> 190511
A17: =CONCATENATE(Rådata!C38,": ",Rådata!J38) -> TBASA-AV:
A18: =CONCATENATE(Rådata!C39,": ",Rådata!J39) -> TBASA-AV:
A19: =CONCATENATE(Rådata!C40,": ",Rådata!J40) -> TBASA-AV:
A20: =CONCATENATE(Rådata!C41,": ",Rådata!J41) -> TBASA-AV:
A21: =CONCATENATE(Rådata!C42,": ",Rådata!J42) -> TBASA-AV:
A22: =CONCATENATE(Rådata!C43,": ",Rådata!J43) -> TBASA-AV:
A23: =CONCATENATE(Rådata!C44,": ",Rådata!J44) -> TBASA-AV:
A24: =CONCATENATE(Rådata!C45,": ",Rådata!J45) -> TBASA-AV:
A25: =CONCATENATE(Rådata!C46,": ",Rådata!J46) -> TBASA-AV:
A26: =CONCATENATE(Rådata!C47,": ",Rådata!J47) -> TBASA-AV:
A27: =CONCATENATE(Rådata!C48,": ",Rådata!J48) -> TBASA-AV: Jag ansåg att första halvan av mattematik kursen var en 5a, andra halvan har varit lite sämre
A28: =CONCATENATE(Rådata!C49,": ",Rådata!J49) -> TBASA-AV:
... A150: =CONCATENATE(Rådata!C171,": ",Rådata!J171) -> :

Sheet Förkunskap
A1: =Rådata!$A$1 -> Kursnr | B1: =Rådata!$B$1 -> HF0021
A2: =Rådata!$A$3 -> Datum | B2: =Rådata!$B$2 -> Matematik I
A3: =Rådata!A3 -> Datum | B3: =Rådata!$B$3 -> 190511
A17: =CONCATENATE(Rådata!C38,": ",Rådata!L38) -> TBASA-AV:
A18: =CONCATENATE(Rådata!C39,": ",Rådata!L39) -> TBASA-AV:
A19: =CONCATENATE(Rådata!C40,": ",Rådata!L40) -> TBASA-AV:
A20: =CONCATENATE(Rådata!C41,": ",Rådata!L41) -> TBASA-AV:
A21: =CONCATENATE(Rådata!C42,": ",Rådata!L42) -> TBASA-AV:
A22: =CONCATENATE(Rådata!C43,": ",Rådata!L43) -> TBASA-AV:
A23: =CONCATENATE(Rådata!C44,": ",Rådata!L44) -> TBASA-AV:
A24: =CONCATENATE(Rådata!C45,": ",Rådata!L45) -> TBASA-AV:
A25: =CONCATENATE(Rådata!C46,": ",Rådata!L46) -> TBASA-AV:
A26: =CONCATENATE(Rådata!C47,": ",Rådata!L47) -> TBASA-AV:
A27: =CONCATENATE(Rådata!C48,": ",Rådata!L48) -> TBASA-AV:
A28: =CONCATENATE(Rådata!C49,": ",Rådata!L49) -> TBASA-AV:
... A150: =CONCATENATE(Rådata!C171,": ",Rådata!L171) -> :

Sheet Kursinfo
A1: =Rådata!$A$1 -> Kursnr | B1: =Rådata!$B$1 -> HF0021
A2: =Rådata!$A$3 -> Datum | B2: =Rådata!$B$2 -> Matematik I
A3: =Rådata!A3 -> Datum | B3: =Rådata!$B$3 -> 190511
A17: =CONCATENATE(Rådata!C38,": ",Rådata!N38) -> TBASA-AV:
A18: =CONCATENATE(Rådata!C39,": ",Rådata!N39) -> TBASA-AV:
A19: =CONCATENATE(Rådata!C40,": ",Rådata!N40) -> TBASA-AV:
A20: =CONCATENATE(Rådata!C41,": ",Rådata!N41) -> TBASA-AV:
A21: =CONCATENATE(Rådata!C42,": ",Rådata!N42) -> TBASA-AV:
A22: =CONCATENATE(Rådata!C43,": ",Rådata!N43) -> TBASA-AV:
A23: =CONCATENATE(Rådata!C44,": ",Rådata!N44) -> TBASA-AV:
A24: =CONCATENATE(Rådata!C45,": ",Rådata!N45) -> TBASA-AV:
A25: =CONCATENATE(Rådata!C46,": ",Rådata!N46) -> TBASA-AV:
A26: =CONCATENATE(Rådata!C47,": ",Rådata!N47) -> TBASA-AV:
A27: =CONCATENATE(Rådata!C48,": ",Rådata!N48) -> TBASA-AV:
A28: =CONCATENATE(Rådata!C49,": ",Rådata!N49) -> TBASA-AV:
... A150: =CONCATENATE(Rådata!C171,": ",Rådata!N171) -> :

Sheet Litteratur
A1: =Rådata!$A$1 -> Kursnr | B1: =Rådata!$B$1 -> HF0021
A2: =Rådata!$A$3 -> Datum | B2: =Rådata!$B$2 -> Matematik I
A3: =Rådata!A3 -> Datum | B3: =Rådata!$B$3 -> 190511
A17: =CONCATENATE(Rådata!C38,": ",Rådata!P38) -> TBASA-AV:
A18: =CONCATENATE(Rådata!C39,": ",Rådata!P39) -> TBASA-AV:
A19: =CONCATENATE(Rådata!C40,": ",Rådata!P40) -> TBASA-AV:
A20: =CONCATENATE(Rådata!C41,": ",Rådata!P41) -> TBASA-AV:
A21: =CONCATENATE(Rådata!C42,": ",Rådata!P42) -> TBASA-AV:
A22: =CONCATENATE(Rådata!C43,": ",Rådata!P43) -> TBASA-AV:
A23: =CONCATENATE(Rådata!C44,": ",Rådata!P44) -> TBASA-AV:
A24: =CONCATENATE(Rådata!C45,": ",Rådata!P45) -> TBASA-AV:
A25: =CONCATENATE(Rådata!C46,": ",Rådata!P46) -> TBASA-AV:
A26: =CONCATENATE(Rådata!C47,": ",Rådata!P47) -> TBASA-AV:
A27: =CONCATENATE(Rådata!C48,": ",Rådata!P48) -> TBASA-AV:
A28: =CONCATENATE(Rådata!C49,": ",Rådata!P49) -> TBASA-AV:
... A150: =CONCATENATE(Rådata!C171,": ",Rådata!P171) -> :

Sheet Stämning
A1: =Rådata!$A$1 -> Kursnr | B1: =Rådata!$B$1 -> HF0021
A2: =Rådata!$A$3 -> Datum | B2: =Rådata!$B$2 -> Matematik I
A3: =Rådata!A3 -> Datum | B3: =Rådata!$B$3 -> 190511
A17: =CONCATENATE(Rådata!C38,": ",Rådata!R38) -> TBASA-AV:
A18: =CONCATENATE(Rådata!C39,": ",Rådata!R39) -> TBASA-AV:
A19: =CONCATENATE(Rådata!C40,": ",Rådata!R40) -> TBASA-AV:
A20: =CONCATENATE(Rådata!C41,": ",Rådata!R41) -> TBASA-AV:
A21: =CONCATENATE(Rådata!C42,": ",Rådata!R42) -> TBASA-AV:
A22: =CONCATENATE(Rådata!C43,": ",Rådata!R43) -> TBASA-AV:
A23: =CONCATENATE(Rådata!C44,": ",Rådata!R44) -> TBASA-AV:
A24: =CONCATENATE(Rådata!C45,": ",Rådata!R45) -> TBASA-AV:
A25: =CONCATENATE(Rådata!C46,": ",Rådata!R46) -> TBASA-AV:
A26: =CONCATENATE(Rådata!C47,": ",Rådata!R47) -> TBASA-AV:
A27: =CONCATENATE(Rådata!C48,": ",Rådata!R48) -> TBASA-AV:
A28: =CONCATENATE(Rådata!C49,": ",Rådata!R49) -> TBASA-AV:
... A150: =CONCATENATE(Rådata!C171,": ",Rådata!R171) -> :

Sheet Inkluderande
A1: =Rådata!$A$1 -> Kursnr | B1: =Rådata!$B$1 -> HF0021
A2: =Rådata!$A$3 -> Datum | B2: =Rådata!$B$2 -> Matematik I
A3: =Rådata!A3 -> Datum | B3: =Rådata!$B$3 -> 190511
A17: =CONCATENATE(Rådata!C38,": ",Rådata!T38) -> TBASA-AV:
A18: =CONCATENATE(Rådata!C39,": ",Rådata!T39) -> TBASA-AV:
A19: =CONCATENATE(Rådata!C40,": ",Rådata!T40) -> TBASA-AV:
A20: =CONCATENATE(Rådata!C41,": ",Rådata!T41) -> TBASA-AV:
A21: =CONCATENATE(Rådata!C42,": ",Rådata!T42) -> TBASA-AV:
A22: =CONCATENATE(Rådata!C43,": ",Rådata!T43) -> TBASA-AV:
A23: =CONCATENATE(Rådata!C44,": ",Rådata!T44) -> TBASA-AV:
A24: =CONCATENATE(Rådata!C45,": ",Rådata!T45) -> TBASA-AV:
A25: =CONCATENATE(Rådata!C46,": ",Rådata!T46) -> TBASA-AV:
A26: =CONCATENATE(Rådata!C47,": ",Rådata!T47) -> TBASA-AV:
A27: =CONCATENATE(Rådata!C48,": ",Rådata!T48) -> TBASA-AV:
A28: =CONCATENATE(Rådata!C49,": ",Rådata!T49) -> TBASA-AV:
... A150: =CONCATENATE(Rådata!C171,": ",Rådata!T171) -> :

Sheet Positiva
A1: =Rådata!$A$1 -> Kursnr | B1: =Rådata!$B$1 -> HF0021
A2: =Rådata!$A$3 -> Datum | B2: =Rådata!$B$2 -> Matematik I
A3: =Rådata!A3 -> Datum | B3: =Rådata!$B$3 -> 190511
A5: =Rådata!U37 -> Positiva synpunkter på kursen
A7: =CONCATENATE(Rådata!C38,": ",Rådata!U38) -> TBASA-AV:
A8: =CONCATENATE(Rådata!C39,": ",Rådata!U39) -> TBASA-AV:
A9: =CONCATENATE(Rådata!C40,": ",Rådata!U40) -> TBASA-AV: Mycket lektioner
A10: =CONCATENATE(Rådata!C41,": ",Rådata!U41) -> TBASA-AV:
A11: =CONCATENATE(Rådata!C42,": ",Rådata!U42) -> TBASA-AV: Kul
A12: =CONCATENATE(Rådata!C43,": ",Rådata!U43) -> TBASA-AV:
A13: =CONCATENATE(Rådata!C44,": ",Rådata!U44) -> TBASA-AV:
A14: =CONCATENATE(Rådata!C45,": ",Rådata!U45) -> TBASA-AV:
A15: =CONCATENATE(Rådata!C46,": ",Rådata!U46) -> TBASA-AV:
A16: =CONCATENATE(Rådata!C47,": ",Rådata!U47) -> TBASA-AV:
A17: =CONCATENATE(Rådata!C48,": ",Rådata!U48) -> TBASA-AV:
A18: =CONCATENATE(Rådata!C49,": ",Rådata!U49) -> TBASA-AV: Det var som bäst när man kunde fota allt som skulle skrivas på den ena sidans tavla medans läran började rita på den andra sidan
... A154: =CONCATENATE(Rådata!C185,": ",Rådata!U185) -> :

Sheet Förbättras
A1: =Rådata!$A$1 -> Kursnr | B1: =Rådata!$B$1 -> HF0021
A2: =Rådata!$A$3 -> Datum | B2: =Rådata!$B$2 -> Matematik I
A3: =Rådata!A3 -> Datum | B3: =Rådata!$B$3 -> 190511
A5: =Rådata!V37 -> Vad kan förbättras till nästa gång kursen ges? Ge gärna förslag!
A7: =CONCATENATE(Rådata!C38,": ",Rådata!V38) -> TBASA-AV:
A8: =CONCATENATE(Rådata!C39,": ",Rådata!V39) -> TBASA-AV:
A9: =CONCATENATE(Rådata!C40,": ",Rådata!V40) -> TBASA-AV: Gå igenom svårare uppgifter på lektionstid
A10: =CONCATENATE(Rådata!C41,": ",Rådata!V41) -> TBASA-AV:
A11: =CONCATENATE(Rådata!C42,": ",Rådata!V42) -> TBASA-AV: Lite mer öppet sinne
A12: =CONCATENATE(Rådata!C43,": ",Rådata!V43) -> TBASA-AV:
A13: =CONCATENATE(Rådata!C44,": ",Rådata!V44) -> TBASA-AV:
A14: =CONCATENATE(Rådata!C45,": ",Rådata!V45) -> TBASA-AV:
A15: =CONCATENATE(Rådata!C46,": ",Rådata!V46) -> TBASA-AV:
A16: =CONCATENATE(Rådata!C47,": ",Rådata!V47) -> TBASA-AV:
A17: =CONCATENATE(Rådata!C48,": ",Rådata!V48) -> TBASA-AV:
A18: =CONCATENATE(Rådata!C49,": ",Rådata!V49) -> TBASA-AV: Information som man ska hitta på hemsidan borde borde verkligen bara vara så lätt att få fram som en eller två knapptryckningar.
... A154: =CONCATENATE(Rådata!C185,": ",Rådata!V185) -> :

Sheet Nästa år
A1: =Rådata!$A$1 -> Kursnr | B1: =Rådata!$B$1 -> HF0021
A2: =Rådata!$A$3 -> Datum | B2: =Rådata!$B$2 -> Matematik I
A3: =Rådata!A3 -> Datum | B3: =Rådata!$B$3 -> 190511
A5: =Rådata!W37 -> Vilka råd skulle du vilja ge framtida kursdeltagare?
A7: =CONCATENATE(Rådata!C38,": ",Rådata!W38) -> TBASA-AV:
A8: =CONCATENATE(Rådata!C39,": ",Rådata!W39) -> TBASA-AV:
A9: =CONCATENATE(Rådata!C40,": ",Rådata!W40) -> TBASA-AV: Delta på alla lektioner
A10: =CONCATENATE(Rådata!C41,": ",Rådata!W41) -> TBASA-AV:
A11: =CONCATENATE(Rådata!C42,": ",Rådata!W42) -> TBASA-AV: Plugga
A12: =CONCATENATE(Rådata!C43,": ",Rådata!W43) -> TBASA-AV: Förstå att alla inte förstår.
A13: =CONCATENATE(Rådata!C44,": ",Rådata!W44) -> TBASA-AV:
A14: =CONCATENATE(Rådata!C45,": ",Rådata!W45) -> TBASA-AV:
A15: =CONCATENATE(Rådata!C46,": ",Rådata!W46) -> TBASA-AV:
A16: =CONCATENATE(Rådata!C47,": ",Rådata!W47) -> TBASA-AV:
A17: =CONCATENATE(Rådata!C48,": ",Rådata!W48) -> TBASA-AV:
A18: =CONCATENATE(Rådata!C49,": ",Rådata!W49) -> TBASA-AV: Funka elever borde verkligen be/få mejl adressen till personen som är ansvarig för att boka testsalar med extra funka tid.
... A154: =CONCATENATE(Rådata!C185,": ",Rådata!W185) -> :

Sheet Rådata
A1: Kursnr | B1: HF0021
A2: Namn | B2: Matematik I
A3: Datum | B3: 190511
A4: =D37 -> Jag är | B4: Annat/Vet ej | C4: TBASA-AV | D4: TBASA-BV | E4: - | F4: Alla | I4: =E37 -> Det här var en bra kurs | J4: =$B$4 -> Annat/Vet ej | K4: =$C$4 -> TBASA-AV | L4: =$D$4 -> TBASA-BV | M4: =$E$4 -> - | N4: =$F$4 -> Alla | Q4: =G37 -> Jag deltog på X% av lektionerna | R4: =$B$4 -> Annat/Vet ej | S4: =$C$4 -> TBASA-AV | T4: =$D$4 -> TBASA-BV | U4: =$E$4 -> - | V4: =$F$4 -> Alla
A5: Man | B5: =COUNTIFS($D$38:$D$295,$A5,$C$38:$C$295,B$4) -> 0 | C5: =COUNTIFS($D$38:$D$295,$A5,$C$38:$C$295,C$4) -> 10 | D5: =COUNTIFS($D$38:$D$295,$A5,$C$38:$C$295,D$4) -> 15 | E5: =COUNTIFS($D$38:$D$295,$A5,$C$38:$C$295,E$4) -> 0 | F5: =COUNTIF($D$38:$D$295,A5) -> 25 | H5: 1 | I5: =$H$5 -> 1 | J5: =COUNTIFS($E$38:$E$295,$I5,$C$38:$C$295,J$4) -> 0 | K5: =COUNTIFS($E$38:$E$295,$I5,$C$38:$C$295,K$4) -> 0 | L5: =COUNTIFS($E$38:$E$295,$I5,$C$38:$C$295,L$4) -> 0 | M5: =COUNTIFS($E$38:$E$295,$I5,$C$38:$C$295,M$4) -> 0 | N5: =COUNTIF($E$38:$E$295,I5) -> 0 | Q5: 0-20% | R5: =COUNTIFS($G$38:$G$295,$Q5,$C$38:$C$295,R$4) -> 0 | S5: =COUNTIFS($G$38:$G$295,$Q5,$C$38:$C$295,S$4) -> 0 | T5: =COUNTIFS($G$38:$G$295,$Q5,$C$38:$C$295,T$4) -> 0 | U5: =COUNTIFS($G$38:$G$295,$Q5,$C$38:$C$295,U$4) -> 0 | V5: =COUNTIF($G$38:$G$295,Q5) -> 0
A6: Kvinna | B6: =COUNTIFS($D$38:$D$295,$A6,$C$38:$C$295,B$4) -> 0 | C6: =COUNTIFS($D$38:$D$295,$A6,$C$38:$C$295,C$4) -> 3 | D6: =COUNTIFS($D$38:$D$295,$A6,$C$38:$C$295,D$4) -> 3 | E6: =COUNTIFS($D$38:$D$295,$A6,$C$38:$C$295,E$4) -> 0 | F6: =COUNTIF($D$38:$D$295,A6) -> 6 | H6: 2 | I6: =$H$6 -> 2 | J6: =COUNTIFS($E$38:$E$295,$I6,$C$38:$C$295,J$4) -> 0 | K6: =COUNTIFS($E$38:$E$295,$I6,$C$38:$C$295,K$4) -> 0 | L6: =COUNTIFS($E$38:$E$295,$I6,$C$38:$C$295,L$4) -> 1 | M6: =COUNTIFS($E$38:$E$295,$I6,$C$38:$C$295,M$4) -> 0 | N6: =COUNTIF($E$38:$E$295,I6) -> 1 | Q6: 21-40% | R6: =COUNTIFS($G$38:$G$295,$Q6,$C$38:$C$295,R$4) -> 0 | S6: =COUNTIFS($G$38:$G$295,$Q6,$C$38:$C$295,S$4) -> 0 | T6: =COUNTIFS($G$38:$G$295,$Q6,$C$38:$C$295,T$4) -> 0 | U6: =COUNTIFS($G$38:$G$295,$Q6,$C$38:$C$295,U$4) -> 0 | V6: =COUNTIF($G$38:$G$295,Q6) -> 0
A7: Annat | B7: =COUNTIFS($D$38:$D$295,$A7,$C$38:$C$295,B$4) -> 0 | C7: =COUNTIFS($D$38:$D$295,$A7,$C$38:$C$295,C$4) -> 0 | D7: =COUNTIFS($D$38:$D$295,$A7,$C$38:$C$295,D$4) -> 1 | E7: =COUNTIFS($D$38:$D$295,$A7,$C$38:$C$295,E$4) -> 0 | F7: =COUNTIF($D$38:$D$295,A7) -> 1 | H7: 3 | I7: =$H$7 -> 3 | J7: =COUNTIFS($E$38:$E$295,$I7,$C$38:$C$295,J$4) -> 0 | K7: =COUNTIFS($E$38:$E$295,$I7,$C$38:$C$295,K$4) -> 8 | L7: =COUNTIFS($E$38:$E$295,$I7,$C$38:$C$295,L$4) -> 1 | M7: =COUNTIFS($E$38:$E$295,$I7,$C$38:$C$295,M$4) -> 0 | N7: =COUNTIF($E$38:$E$295,I7) -> 9 | Q7: 41-60% | R7: =COUNTIFS($G$38:$G$295,$Q7,$C$38:$C$295,R$4) -> 0 | S7: =COUNTIFS($G$38:$G$295,$Q7,$C$38:$C$295,S$4) -> 1 | T7: =COUNTIFS($G$38:$G$295,$Q7,$C$38:$C$295,T$4) -> 1 | U7: =COUNTIFS($G$38:$G$295,$Q7,$C$38:$C$295,U$4) -> 0 | V7: =COUNTIF($G$38:$G$295,Q7) -> 2
A8: Vill ej uppge | B8: =COUNTIFS($D$38:$D$295,$A8,$C$38:$C$295,B$4) -> 0 | C8: =COUNTIFS($D$38:$D$295,$A8,$C$38:$C$295,C$4) -> 0 | D8: =COUNTIFS($D$38:$D$295,$A8,$C$38:$C$295,D$4) -> 0 | E8: =COUNTIFS($D$38:$D$295,$A8,$C$38:$C$295,E$4) -> 0 | F8: =COUNTIF($D$38:$D$295,A8) -> 0 | H8: 4 | I8: =$H$8 -> 4 | J8: =COUNTIFS($E$38:$E$295,$I8,$C$38:$C$295,J$4) -> 0 | K8: =COUNTIFS($E$38:$E$295,$I8,$C$38:$C$295,K$4) -> 1 | L8: =COUNTIFS($E$38:$E$295,$I8,$C$38:$C$295,L$4) -> 11 | M8: =COUNTIFS($E$38:$E$295,$I8,$C$38:$C$295,M$4) -> 0 | N8: =COUNTIF($E$38:$E$295,I8) -> 12 | Q8: 61-80% | R8: =COUNTIFS($G$38:$G$295,$Q8,$C$38:$C$295,R$4) -> 0 | S8: =COUNTIFS($G$38:$G$295,$Q8,$C$38:$C$295,S$4) -> 1 | T8: =COUNTIFS($G$38:$G$295,$Q8,$C$38:$C$295,T$4) -> 2 | U8: =COUNTIFS($G$38:$G$295,$Q8,$C$38:$C$295,U$4) -> 0 | V8: =COUNTIF($G$38:$G$295,Q8) -> 3
A9: Summa | B9: =SUM(B5:B8) -> 0 | C9: =SUM(C5:C8) -> 13 | D9: =SUM(D5:D8) -> 19 | E9: =SUM(E5:E8) -> 0 | F9: =SUM(F5:F8) -> 32 | H9: 5 | I9: =$H$9 -> 5 | J9: =COUNTIFS($E$38:$E$295,$I9,$C$38:$C$295,J$4) -> 0 | K9: =COUNTIFS($E$38:$E$295,$I9,$C$38:$C$295,K$4) -> 4 | L9: =COUNTIFS($E$38:$E$295,$I9,$C$38:$C$295,L$4) -> 6 | M9: =COUNTIFS($E$38:$E$295,$I9,$C$38:$C$295,M$4) -> 0 | N9: =COUNTIF($E$38:$E$295,I9) -> 10 | Q9: 81-100% | R9: =COUNTIFS($G$38:$G$295,$Q9,$C$38:$C$295,R$4) -> 0 | S9: =COUNTIFS($G$38:$G$295,$Q9,$C$38:$C$295,S$4) -> 11 | T9: =COUNTIFS($G$38:$G$295,$Q9,$C$38:$C$295,T$4) -> 16 | U9: =COUNTIFS($G$38:$G$295,$Q9,$C$38:$C$295,U$4) -> 0 | V9: =COUNTIF($G$38:$G$295,Q9) -> 27
I10: Medel | J10: =SUMPRODUCT($I$5:$I$9,J5:J9)/SUM(J5:J9) -> #DIV/0! | K10: =SUMPRODUCT($I$5:$I$9,K5:K9)/SUM(K5:K9) -> 3.6923077 | L10: =SUMPRODUCT($I$5:$I$9,L5:L9)/SUM(L5:L9) -> 4.1578947 | M10: =SUMPRODUCT($I$5:$I$9,M5:M9)/SUM(M5:M9) -> #DIV/0! | N10: =SUMPRODUCT($I$5:$I$9,N5:N9)/SUM(N5:N9) -> 3.96875
A12: =I37 -> Lektionerna var lärorika | B12: =$B$4 -> Annat/Vet ej | C12: =$C$4 -> TBASA-AV | D12: =$D$4 -> TBASA-BV | E12: =$E$4 -> - | F12: =$F$4 -> Alla | Q12: =K37 -> Mina förkunskaper var tillräckliga | R12: =$B$4 -> Annat/Vet ej | S12: =$C$4 -> TBASA-AV | T12: =$D$4 -> TBASA-BV | U12: =$E$4 -> - | V12: =$F$4 -> Alla
A13: =$H$5 -> 1 | B13: =COUNTIFS($I$38:$I$295,$A13,$C$38:$C$295,B$12) -> 0 | C13: =COUNTIFS($I$38:$I$295,$A13,$C$38:$C$295,C$12) -> 0 | D13: =COUNTIFS($I$38:$I$295,$A13,$C$38:$C$295,D$12) -> 0 | E13: =COUNTIFS($I$38:$I$295,$A13,$C$38:$C$295,E$12) -> 0 | F13: =COUNTIF($I$38:$I$295,A13) -> 0 | Q13: =$H$5 -> 1 | R13: =COUNTIFS($K$38:$K$295,$Q13,$C$38:$C$295,R$12) -> 0 | S13: =COUNTIFS($K$38:$K$295,$Q13,$C$38:$C$295,S$12) -> 2 | T13: =COUNTIFS($K$38:$K$295,$Q13,$C$38:$C$295,T$12) -> 1 | U13: =COUNTIFS($K$38:$K$295,$Q13,$C$38:$C$295,U$12) -> 0 | V13: =COUNTIF($K$38:$K$295,Q13) -> 3
A14: =$H$6 -> 2 | B14: =COUNTIFS($I$38:$I$295,$A14,$C$38:$C$295,B$12) -> 0 | C14: =COUNTIFS($I$38:$I$295,$A14,$C$38:$C$295,C$12) -> 0 | D14: =COUNTIFS($I$38:$I$295,$A14,$C$38:$C$295,D$12) -> 0 | E14: =COUNTIFS($I$38:$I$295,$A14,$C$38:$C$295,E$12) -> 0 | F14: =COUNTIF($I$38:$I$295,A14) -> 0 | Q14: =$H$6 -> 2 | R14: =COUNTIFS($K$38:$K$295,$Q14,$C$38:$C$295,R$12) -> 0 | S14: =COUNTIFS($K$38:$K$295,$Q14,$C$38:$C$295,S$12) -> 2 | T14: =COUNTIFS($K$38:$K$295,$Q14,$C$38:$C$295,T$12) -> 2 | U14: =COUNTIFS($K$38:$K$295,$Q14,$C$38:$C$295,U$12) -> 0 | V14: =COUNTIF($K$38:$K$295,Q14) -> 4
A15: =$H$7 -> 3 | B15: =COUNTIFS($I$38:$I$295,$A15,$C$38:$C$295,B$12) -> 0 | C15: =COUNTIFS($I$38:$I$295,$A15,$C$38:$C$295,C$12) -> 6 | D15: =COUNTIFS($I$38:$I$295,$A15,$C$38:$C$295,D$12) -> 3 | E15: =COUNTIFS($I$38:$I$295,$A15,$C$38:$C$295,E$12) -> 0 | F15: =COUNTIF($I$38:$I$295,A15) -> 9 | Q15: =$H$7 -> 3 | R15: =COUNTIFS($K$38:$K$295,$Q15,$C$38:$C$295,R$12) -> 0 | S15: =COUNTIFS($K$38:$K$295,$Q15,$C$38:$C$295,S$12) -> 1 | T15: =COUNTIFS($K$38:$K$295,$Q15,$C$38:$C$295,T$12) -> 5 | U15: =COUNTIFS($K$38:$K$295,$Q15,$C$38:$C$295,U$12) -> 0 | V15: =COUNTIF($K$38:$K$295,Q15) -> 6
A16: =$H$8 -> 4 | B16: =COUNTIFS($I$38:$I$295,$A16,$C$38:$C$295,B$12) -> 0 | C16: =COUNTIFS($I$38:$I$295,$A16,$C$38:$C$295,C$12) -> 3 | D16: =COUNTIFS($I$38:$I$295,$A16,$C$38:$C$295,D$12) -> 9 | E16: =COUNTIFS($I$38:$I$295,$A16,$C$38:$C$295,E$12) -> 0 | F16: =COUNTIF($I$38:$I$295,A16) -> 12 | Q16: =$H$8 -> 4 | R16: =COUNTIFS($K$38:$K$295,$Q16,$C$38:$C$295,R$12) -> 0 | S16: =COUNTIFS($K$38:$K$295,$Q16,$C$38:$C$295,S$12) -> 4 | T16: =COUNTIFS($K$38:$K$295,$Q16,$C$38:$C$295,T$12) -> 8 | U16: =COUNTIFS($K$38:$K$295,$Q16,$C$38:$C$295,U$12) -> 0 | V16: =COUNTIF($K$38:$K$295,Q16) -> 12
A17: =$H$9 -> 5 | B17: =COUNTIFS($I$38:$I$295,$A17,$C$38:$C$295,B$12) -> 0 | C17: =COUNTIFS($I$38:$I$295,$A17,$C$38:$C$295,C$12) -> 4 | D17: =COUNTIFS($I$38:$I$295,$A17,$C$38:$C$295,D$12) -> 7 | E17: =COUNTIFS($I$38:$I$295,$A17,$C$38:$C$295,E$12) -> 0 | F17: =COUNTIF($I$38:$I$295,A17) -> 11 | Q17: =$H$9 -> 5 | R17: =COUNTIFS($K$38:$K$295,$Q17,$C$38:$C$295,R$12) -> 0 | S17: =COUNTIFS($K$38:$K$295,$Q17,$C$38:$C$295,S$12) -> 4 | T17: =COUNTIFS($K$38:$K$295,$Q17,$C$38:$C$295,T$12) -> 3 | U17: =COUNTIFS($K$38:$K$295,$Q17,$C$38:$C$295,U$12) -> 0 | V17: =COUNTIF($K$38:$K$295,Q17) -> 7
A18: Medel | B18: =SUMPRODUCT($A$13:$A$17,B13:B17)/SUM(B13:B17) -> #DIV/0! | C18: =SUMPRODUCT($A$13:$A$17,C13:C17)/SUM(C13:C17) -> 3.8461538 | D18: =SUMPRODUCT($A$13:$A$17,D13:D17)/SUM(D13:D17) -> 4.2105263 | E18: =SUMPRODUCT($A$13:$A$17,E13:E17)/SUM(E13:E17) -> #DIV/0! | F18: =SUMPRODUCT($A$13:$A$17,F13:F17)/SUM(F13:F17) -> 4.0625 | Q18: Medel | R18: =SUMPRODUCT($Q$13:$Q$17,R13:R17)/SUM(R13:R17) -> #DIV/0! | S18: =SUMPRODUCT($Q$13:$Q$17,S13:S17)/SUM(S13:S17) -> 3.4615385 | T18: =SUMPRODUCT($Q$13:$Q$17,T13:T17)/SUM(T13:T17) -> 3.5263158 | U18: =SUMPRODUCT($Q$13:$Q$17,U13:U17)/SUM(U13:U17) -> #DIV/0! | V18: =SUMPRODUCT($Q$13:$Q$17,V13:V17)/SUM(V13:V17) -> 3.5
A20: =M37 -> Kursinformationen var tydlig | B20: =$B$4 -> Annat/Vet ej | C20: =$C$4 -> TBASA-AV | D20: =$D$4 -> TBASA-BV | E20: =$E$4 -> - | F20: =$F$4 -> Alla | I20: =O37 -> Kurslitteraturen är bra | J20: =$B$4 -> Annat/Vet ej | K20: =$C$4 -> TBASA-AV | L20: =$D$4 -> TBASA-BV | M20: =$E$4 -> - | N20: =$F$4 -> Alla | Q20: =Q37 -> Stämningen i klassen var god | R20: =$B$4 -> Annat/Vet ej | S20: =$C$4 -> TBASA-AV | T20: =$D$4 -> TBASA-BV | U20: =$E$4 -> - | V20: =$F$4 -> Alla
A21: =$H$5 -> 1 | B21: =COUNTIFS($M$38:$M$295,$A21,$C$38:$C$295,B$20) -> 0 | C21: =COUNTIFS($M$38:$M$295,$A21,$C$38:$C$295,C$20) -> 0 | D21: =COUNTIFS($M$38:$M$295,$A21,$C$38:$C$295,D$20) -> 0 | E21: =COUNTIFS($M$38:$M$295,$A21,$C$38:$C$295,E$20) -> 0 | F21: =COUNTIF($M$38:$M$295,A21) -> 0 | I21: =$H$5 -> 1 | J21: =COUNTIFS($O$38:$O$295,$I21,$C$38:$C$295,J$20) -> 0 | K21: =COUNTIFS($O$38:$O$295,$I21,$C$38:$C$295,K$20) -> 0 | L21: =COUNTIFS($O$38:$O$295,$I21,$C$38:$C$295,L$20) -> 0 | M21: =COUNTIFS($O$38:$O$295,$I21,$C$38:$C$295,M$20) -> 0 | N21: =COUNTIF($O$38:$O$295,I21) -> 0 | Q21: =$H$5 -> 1 | R21: =COUNTIFS($Q$38:$Q$295,$Q21,$C$38:$C$295,R$20) -> 0 | S21: =COUNTIFS($Q$38:$Q$295,$Q21,$C$38:$C$295,S$20) -> 0 | T21: =COUNTIFS($Q$38:$Q$295,$Q21,$C$38:$C$295,T$20) -> 1 | U21: =COUNTIFS($Q$38:$Q$295,$Q21,$C$38:$C$295,U$20) -> 0 | V21: =COUNTIF($Q$38:$Q$295,Q21) -> 1
A22: =$H$6 -> 2 | B22: =COUNTIFS($M$38:$M$295,$A22,$C$38:$C$295,B$20) -> 0 | C22: =COUNTIFS($M$38:$M$295,$A22,$C$38:$C$295,C$20) -> 0 | D22: =COUNTIFS($M$38:$M$295,$A22,$C$38:$C$295,D$20) -> 2 | E22: =COUNTIFS($M$38:$M$295,$A22,$C$38:$C$295,E$20) -> 0 | F22: =COUNTIF($M$38:$M$295,A22) -> 2 | I22: =$H$6 -> 2 | J22: =COUNTIFS($O$38:$O$295,$I22,$C$38:$C$295,J$20) -> 0 | K22: =COUNTIFS($O$38:$O$295,$I22,$C$38:$C$295,K$20) -> 0 | L22: =COUNTIFS($O$38:$O$295,$I22,$C$38:$C$295,L$20) -> 1 | M22: =COUNTIFS($O$38:$O$295,$I22,$C$38:$C$295,M$20) -> 0 | N22: =COUNTIF($O$38:$O$295,I22) -> 1 | Q22: =$H$6 -> 2 | R22: =COUNTIFS($Q$38:$Q$295,$Q22,$C$38:$C$295,R$20) -> 0 | S22: =COUNTIFS($Q$38:$Q$295,$Q22,$C$38:$C$295,S$20) -> 0 | T22: =COUNTIFS($Q$38:$Q$295,$Q22,$C$38:$C$295,T$20) -> 1 | U22: =COUNTIFS($Q$38:$Q$295,$Q22,$C$38:$C$295,U$20) -> 0 | V22: =COUNTIF($Q$38:$Q$295,Q22) -> 1
A23: =$H$7 -> 3 | B23: =COUNTIFS($M$38:$M$295,$A23,$C$38:$C$295,B$20) -> 0 | C23: =COUNTIFS($M$38:$M$295,$A23,$C$38:$C$295,C$20) -> 3 | D23: =COUNTIFS($M$38:$M$295,$A23,$C$38:$C$295,D$20) -> 1 | E23: =COUNTIFS($M$38:$M$295,$A23,$C$38:$C$295,E$20) -> 0 | F23: =COUNTIF($M$38:$M$295,A23) -> 4 | I23: =$H$7 -> 3 | J23: =COUNTIFS($O$38:$O$295,$I23,$C$38:$C$295,J$20) -> 0 | K23: =COUNTIFS($O$38:$O$295,$I23,$C$38:$C$295,K$20) -> 3 | L23: =COUNTIFS($O$38:$O$295,$I23,$C$38:$C$295,L$20) -> 4 | M23: =COUNTIFS($O$38:$O$295,$I23,$C$38:$C$295,M$20) -> 0 | N23: =COUNTIF($O$38:$O$295,I23) -> 7 | Q23: =$H$7 -> 3 | R23: =COUNTIFS($Q$38:$Q$295,$Q23,$C$38:$C$295,R$20) -> 0 | S23: =COUNTIFS($Q$38:$Q$295,$Q23,$C$38:$C$295,S$20) -> 0 | T23: =COUNTIFS($Q$38:$Q$295,$Q23,$C$38:$C$295,T$20) -> 2 | U23: =COUNTIFS($Q$38:$Q$295,$Q23,$C$38:$C$295,U$20) -> 0 | V23: =COUNTIF($Q$38:$Q$295,Q23) -> 2
A24: =$H$8 -> 4 | B24: =COUNTIFS($M$38:$M$295,$A24,$C$38:$C$295,B$20) -> 0 | C24: =COUNTIFS($M$38:$M$295,$A24,$C$38:$C$295,C$20) -> 7 | D24: =COUNTIFS($M$38:$M$295,$A24,$C$38:$C$295,D$20) -> 9 | E24: =COUNTIFS($M$38:$M$295,$A24,$C$38:$C$295,E$20) -> 0 | F24: =COUNTIF($M$38:$M$295,A24) -> 16 | I24: =$H$8 -> 4 | J24: =COUNTIFS($O$38:$O$295,$I24,$C$38:$C$295,J$20) -> 0 | K24: =COUNTIFS($O$38:$O$295,$I24,$C$38:$C$295,K$20) -> 5 | L24: =COUNTIFS($O$38:$O$295,$I24,$C$38:$C$295,L$20) -> 8 | M24: =COUNTIFS($O$38:$O$295,$I24,$C$38:$C$295,M$20) -> 0 | N24: =COUNTIF($O$38:$O$295,I24) -> 13 | Q24: =$H$8 -> 4 | R24: =COUNTIFS($Q$38:$Q$295,$Q24,$C$38:$C$295,R$20) -> 0 | S24: =COUNTIFS($Q$38:$Q$295,$Q24,$C$38:$C$295,S$20) -> 5 | T24: =COUNTIFS($Q$38:$Q$295,$Q24,$C$38:$C$295,T$20) -> 6 | U24: =COUNTIFS($Q$38:$Q$295,$Q24,$C$38:$C$295,U$20) -> 0 | V24: =COUNTIF($Q$38:$Q$295,Q24) -> 11
A25: =$H$9 -> 5 | B25: =COUNTIFS($M$38:$M$295,$A25,$C$38:$C$295,B$20) -> 0 | C25: =COUNTIFS($M$38:$M$295,$A25,$C$38:$C$295,C$20) -> 3 | D25: =COUNTIFS($M$38:$M$295,$A25,$C$38:$C$295,D$20) -> 7 | E25: =COUNTIFS($M$38:$M$295,$A25,$C$38:$C$295,E$20) -> 0 | F25: =COUNTIF($M$38:$M$295,A25) -> 10 | I25: =$H$9 -> 5 | J25: =COUNTIFS($O$38:$O$295,$I25,$C$38:$C$295,J$20) -> 0 | K25: =COUNTIFS($O$38:$O$295,$I25,$C$38:$C$295,K$20) -> 5 | L25: =COUNTIFS($O$38:$O$295,$I25,$C$38:$C$295,L$20) -> 6 | M25: =COUNTIFS($O$38:$O$295,$I25,$C$38:$C$295,M$20) -> 0 | N25: =COUNTIF($O$38:$O$295,I25) -> 11 | Q25: =$H$9 -> 5 | R25: =COUNTIFS($Q$38:$Q$295,$Q25,$C$38:$C$295,R$20) -> 0 | S25: =COUNTIFS($Q$38:$Q$295,$Q25,$C$38:$C$295,S$20) -> 8 | T25: =COUNTIFS($Q$38:$Q$295,$Q25,$C$38:$C$295,T$20) -> 9 | U25: =COUNTIFS($Q$38:$Q$295,$Q25,$C$38:$C$295,U$20) -> 0 | V25: =COUNTIF($Q$38:$Q$295,Q25) -> 17
A26: Medel | B26: =SUMPRODUCT($A$21:$A$25,B21:B25)/SUM(B21:B25) -> #DIV/0! | C26: =SUMPRODUCT($A$21:$A$25,C21:C25)/SUM(C21:C25) -> 4 | D26: =SUMPRODUCT($A$21:$A$25,D21:D25)/SUM(D21:D25) -> 4.1052632 | E26: =SUMPRODUCT($A$21:$A$25,E21:E25)/SUM(E21:E25) -> #DIV/0! | F26: =SUMPRODUCT($A$21:$A$25,F21:F25)/SUM(F21:F25) -> 4.0625 | I26: Medel | J26: =SUMPRODUCT($I$21:$I$25,J21:J25)/SUM(J21:J25) -> #DIV/0! | K26: =SUMPRODUCT($I$21:$I$25,K21:K25)/SUM(K21:K25) -> 4.1538462 | L26: =SUMPRODUCT($I$21:$I$25,L21:L25)/SUM(L21:L25) -> 4 | M26: =SUMPRODUCT($I$21:$I$25,M21:M25)/SUM(M21:M25) -> #DIV/0! | N26: =SUMPRODUCT($I$21:$I$25,N21:N25)/SUM(N21:N25) -> 4.0625 | Q26: Medel | R26: =SUMPRODUCT($Q$21:$Q$25,R21:R25)/SUM(R21:R25) -> #DIV/0! | S26: =SUMPRODUCT($Q$21:$Q$25,S21:S25)/SUM(S21:S25) -> 4.6153846 | T26: =SUMPRODUCT($Q$21:$Q$25,T21:T25)/SUM(T21:T25) -> 4.1052632 | U26: =SUMPRODUCT($Q$21:$Q$25,U21:U25)/SUM(U21:U25) -> #DIV/0! | V26: =SUMPRODUCT($Q$21:$Q$25,V21:V25)/SUM(V21:V25) -> 4.3125
A28: =S37 -> Undervisningen kännetecknades av ett öppet och inkluderande klimat | B28: =$B$4 -> Annat/Vet ej | C28: =$C$4 -> TBASA-AV | D28: =$D$4 -> TBASA-BV | E28: =$E$4 -> - | F28: =$F$4 -> Alla
A29: =$H$5 -> 1 | B29: =COUNTIFS($S$38:$S$295,$A29,$C$38:$C$295,B$28) -> 0 | C29: =COUNTIFS($S$38:$S$295,$A29,$C$38:$C$295,C$28) -> 1 | D29: =COUNTIFS($S$38:$S$295,$A29,$C$38:$C$295,D$28) -> 0 | E29: =COUNTIFS($S$38:$S$295,$A29,$C$38:$C$295,E$28) -> 0 | F29: =COUNTIF($S$38:$S$295,A29) -> 1
A30: =$H$6 -> 2 | B30: =COUNTIFS($S$38:$S$295,$A30,$C$38:$C$295,B$28) -> 0 | C30: =COUNTIFS($S$38:$S$295,$A30,$C$38:$C$295,C$28) -> 0 | D30: =COUNTIFS($S$38:$S$295,$A30,$C$38:$C$295,D$28) -> 1 | E30: =COUNTIFS($S$38:$S$295,$A30,$C$38:$C$295,E$28) -> 0 | F30: =COUNTIF($S$38:$S$295,A30) -> 1
A31: =$H$7 -> 3 | B31: =COUNTIFS($S$38:$S$295,$A31,$C$38:$C$295,B$28) -> 0 | C31: =COUNTIFS($S$38:$S$295,$A31,$C$38:$C$295,C$28) -> 6 | D31: =COUNTIFS($S$38:$S$295,$A31,$C$38:$C$295,D$28) -> 1 | E31: =COUNTIFS($S$38:$S$295,$A31,$C$38:$C$295,E$28) -> 0 | F31: =COUNTIF($S$38:$S$295,A31) -> 7
A32: =$H$8 -> 4 | B32: =COUNTIFS($S$38:$S$295,$A32,$C$38:$C$295,B$28) -> 0 | C32: =COUNTIFS($S$38:$S$295,$A32,$C$38:$C$295,C$28) -> 4 | D32: =COUNTIFS($S$38:$S$295,$A32,$C$38:$C$295,D$28) -> 7 | E32: =COUNTIFS($S$38:$S$295,$A32,$C$38:$C$295,E$28) -> 0 | F32: =COUNTIF($S$38:$S$295,A32) -> 11
A33: =$H$9 -> 5 | B33: =COUNTIFS($S$38:$S$295,$A33,$C$38:$C$295,B$28) -> 0 | C33: =COUNTIFS($S$38:$S$295,$A33,$C$38:$C$295,C$28) -> 2 | D33: =COUNTIFS($S$38:$S$295,$A33,$C$38:$C$295,D$28) -> 10 | E33: =COUNTIFS($S$38:$S$295,$A33,$C$38:$C$295,E$28) -> 0 | F33: =COUNTIF($S$38:$S$295,A33) -> 12
A34: Medel | B34: =SUMPRODUCT($A$29:$A$33,B29:B33)/SUM(B29:B33) -> #DIV/0! | C34: =SUMPRODUCT($A$29:$A$33,C29:C33)/SUM(C29:C33) -> 3.4615385 | D34: =SUMPRODUCT($A$29:$A$33,D29:D33)/SUM(D29:D33) -> 4.3684211 | E34: =SUMPRODUCT($A$29:$A$33,E29:E33)/SUM(E29:E33) -> #DIV/0! | F34: =SUMPRODUCT($A$29:$A$33,F29:F33)/SUM(F29:F33) -> 4
A36: Svarsdatum | B36: Inloggad användare | C36: Jag går i klass | D36: Jag är | E36: Det här var en bra kurs | F36: Kommentar till ovanstående fråga (valfritt) | G36: Jag deltog på X% av lektionerna | H36: Kommentar till ovanstående fråga (valfritt) | I36: Lektionerna var lärorika | J36: Kommentar till ovanstående fråga (valfritt) | K36: Mina förkunskaper var tillräckliga | L36: Kommentar till ovanstående fråga (valfritt) | M36: Kursinformationen var tydlig | N36: Kommentar till ovanstående fråga (valfritt) | O36: Kurslitteraturen är bra | P36: Kommentar till ovanstående fråga (valfritt) | Q36: Stämningen i klassen var god | R36: Kommentar till ovanstående fråga (valfritt) | S36: Undervisningen kännetecknades av ett öppet och inkluderande klimat | T36: Kommentar till ovanstående fråga (valfritt) | U36: Positiva synpunkter på kursen | V36: Vad kan förbättras till nästa gång kursen ges? Ge gärna förslag! | W36: Vilka råd skulle du vilja ge framtida kursdeltagare?
A37: Svarsdatum | B37: Inloggad användare | C37: Jag går i klass | D37: Jag är | E37: Det här var en bra kurs | F37: Kommentar till ovanstående fråga (valfritt) | G37: Jag deltog på X% av lektionerna | H37: Kommentar till ovanstående fråga (valfritt) | I37: Lektionerna var lärorika | J37: Kommentar till ovanstående fråga (valfritt) | K37: Mina förkunskaper var tillräckliga | L37: Kommentar till ovanstående fråga (valfritt) | M37: Kursinformationen var tydlig | N37: Kommentar till ovanstående fråga (valfritt) | O37: Kurslitteraturen är bra | P37: Kommentar till ovanstående fråga (valfritt) | Q37: Stämningen i klassen var god | R37: Kommentar till ovanstående fråga (valfritt) | S37: Undervisningen kännetecknades av ett öppet och inkluderande klimat | T37: Kommentar till ovanstående fråga (valfritt) | U37: Positiva synpunkter på kursen | V37: Vad kan förbättras till nästa gång kursen ges? Ge gärna förslag! | W37: Vilka råd skulle du vilja ge framtida kursdeltagare?
A38: 2019-05-07 13:21:44 | C38: TBASA-AV | D38: Man | E38: 5 | G38: 81-100% | I38: 5 | K38: 3 | M38: 3 | O38: 5 | Q38: 5 | S38: 3
A39: 2019-05-07 13:22:26 | C39: TBASA-AV | D39: Man | E39: 4 | G39: 81-100% | I39: 5 | K39: 5 | M39: 5 | O39: 5 | Q39: 5 | S39: 5
A40: 2019-05-07 13:22:39 | C40: TBASA-AV | D40: Kvinna | E40: 3 | G40: 81-100% | I40: 4 | K40: 4 | M40: 4 | O40: 4 | Q40: 4 | S40: 4 | U40: Mycket lektioner | V40: Gå igenom svårare uppgifter på lektionstid | W40: Delta på alla lektioner
A41: 2019-05-07 13:22:55 | C41: TBASA-AV | D41: Man | E41: 3 | G41: 81-100% | I41: 3 | K41: 4 | M41: 4 | O41: 5 | Q41: 5 | S41: 3
A42: 2019-05-07 13:22:58 | C42: TBASA-AV | D42: Man | E42: 3 | G42: 81-100% | I42: 3 | K42: 4 | M42: 4 | O42: 5 | Q42: 5 | S42: 4 | U42: Kul | V42: Lite mer öppet sinne | W42: Plugga
A43: 2019-05-07 13:23:50 | C43: TBASA-AV | D43: Kvinna | E43: 3 | G43: 81-100% | I43: 3 | K43: 1 | M43: 4 | O43: 3 | Q43: 4 | S43: 3 | W43: Förstå att alla inte förstår.
A44: 2019-05-07 13:24:43 | C44: TBASA-AV | D44: Man | E44: 5 | G44: 81-100% | I44: 5 | K44: 5 | M44: 5 | O44: 5 | Q44: 5 | S44: 4
A45: 2019-05-07 13:24:51 | C45: TBASA-AV | D45: Man | E45: 3 | G45: 61-80% | I45: 3 | K45: 5 | M45: 3 | O45: 3 | Q45: 5 | S45: 1
A46: 2019-05-07 13:25:52 | C46: TBASA-AV | D46: Man | E46: 3 | G46: 81-100% | I46: 4 | K46: 4 | M46: 4 | O46: 4 | Q46: 4 | S46: 3
A47: 2019-05-07 16:52:08 | C47: TBASA-AV | D47: Man | E47: 3 | G47: 41-60% | I47: 3 | K47: 1 | M47: 4 | O47: 3 | Q47: 5 | S47: 3
A48: 2019-05-07 16:52:54 | C48: TBASA-AV | D48: Man | E48: 3 | G48: 81-100% | I48: 4 | J48: Jag ansåg att första halvan av mattematik kursen var en 5a, andra halvan har varit lite sämre | K48: 2 | M48: 4 | O48: 4 | Q48: 4 | S48: 4
A49: 2019-05-07 16:57:21 | C49: TBASA-AV | D49: Man | E49: 5 | G49: 81-100% | I49: 5 | K49: 5 | M49: 3 | O49: 4 | Q49: 5 | S49: 5 | U49: Det var som bäst när man kunde fota allt som skulle skrivas på den ena sidans tavla medans läran började rita på den andra sidan | V49: Information som man ska hitta på hemsidan borde borde verkligen bara vara så lätt att få fram som en eller två knapptryckningar. | W49: Funka elever borde verkligen be/få mejl adressen till personen som är ansvarig för att boka testsalar med extra funka tid.
A50: 2019-05-10 20:35:06 | C50: TBASA-AV | D50: Kvinna | E50: 5 | G50: 81-100% | I50: 3 | K50: 2 | M50: 5 | O50: 4 | Q50: 4 | S50: 3
A51: 2019-05-07 16:49:33 | C51: TBASA-BV | D51: Man | E51: 4 | G51: 81-100% | I51: 4 | K51: 3 | M51: 4 | O51: 4 | Q51: 5 | S51: 4
A52: 2019-05-07 16:49:47 | C52: TBASA-BV | D52: Man | E52: 4 | G52: 81-100% | I52: 5 | K52: 4 | M52: 4 | O52: 4 | Q52: 4 | S52: 4
A53: 2019-05-07 16:50:33 | C53: TBASA-BV | D53: Man | E53: 5 | F53: Är mycket nöjd med kursens upplägg och läraren jag har. | G53: 81-100% | I53: 5 | K53: 4 | M53: 5 | O53: 5 | Q53: 5 | S53: 5
A54: 2019-05-07 16:51:37 | C54: TBASA-BV | D54: Man | E54: 4 | G54: 81-100% | I54: 4 | K54: 5 | M54: 5 | O54: 4 | Q54: 4 | S54: 5
A55: 2019-05-07 16:51:45 | C55: TBASA-BV | D55: Man | E55: 4 | G55: 81-100% | I55: 4 | K55: 4 | M55: 4 | O55: 5 | Q55: 4 | S55: 4
A56: 2019-05-07 16:52:09 | C56: TBASA-BV | D56: Annat | E56: 5 | F56: Vania ÄGER | G56: 81-100% | I56: 5 | K56: 2 | M56: 5 | O56: 5 | P56: BERÄTTA VILKEN KURSLITTERATUR LÅNGT INNAN SÅ MAN HAR TID ATT KÖPA. Jag beställde 2 veckor innan skolstart och inte ens det räckte. | Q56: 5 | S56: 5 | U56: VANIA ÄR DEN BÄSTA LÄRAREN NÅGONSIN | V56: TIDIG STUDIETEKNIK FÖRELÄSNING!!!!!! | W56: Plugga i grupp, följ studieteknik föreläsningarna A till O. Gymnasiestudieteknik räcker inte för fem öre. Även om man misslyckas i början kan man komma sjukt långt fram mot slutet. STANNA VARJE DAG PÅ SKOLAN OCH PLUGGA REGELBUNDET.
A57: 2019-05-07 16:52:12 | C57: TBASA-BV | D57: Man | E57: 5 | G57: 81-100% | I57: 5 | K57: 5 | M57: 5 | O57: 5 | Q57: 5 | S57: 5 | U57: Mycket god pedagogik
A58: 2019-05-07 16:52:32 | C58: TBASA-BV | D58: Man | E58: 4 | G58: 81-100% | I58: 4 | K58: 4 | M58: 5 | O58: 4 | Q58: 5 | S58: 5 | V58: Fler uppgifter under föreläsning som inte är från matteboken | W58: Gå på lektioner, fråga mycket
A59: 2019-05-07 16:52:36 | C59: TBASA-BV | D59: Man | E59: 2 | G59: 61-80% | I59: 3 | K59: 1 | M59: 2 | O59: 3 | Q59: 1 | S59: 3 | U59: Hjälp når man behöver det | V59: Inte hoppa över vissa saker när man gör ut en uträkning. Dvs att läraren förväntar sig att vissa saker ska man redan kunna. Det förstör väldigt mycket att en uppgift då man sedan inte hänger med.
A60: 2019-05-07 16:54:26 | C60: TBASA-BV | D60: Man | E60: 5 | G60: 81-100% | I60: 4 | K60: 4 | M60: 4 | O60: 2 | P60: För lite uppgifter som matchar svårighetsgraden på tenta uppgifterna | Q60: 5 | S60: 5 | U60: Bra att allt går igenom väldigt grundligt | V60: tydligare på exakt vad som krävs för att få alla poäng på tenta uppgifter
A61: 2019-05-07 16:54:38 | C61: TBASA-BV | D61: Man | E61: 4 | G61: 81-100% | I61: 4 | K61: 3 | M61: 4 | O61: 4 | Q61: 4 | S61: 4
A62: 2019-05-07 16:55:19 | C62: TBASA-BV | D62: Man | E62: 4 | G62: 81-100% | I62: 4 | K62: 4 | M62: 3 | O62: 3 | Q62: 4 | S62: 4
A63: 2019-05-07 16:55:20 | C63: TBASA-BV | D63: Kvinna | E63: 4 | G63: 81-100% | I63: 4 | K63: 3 | M63: 4 | O63: 4 | Q63: 4 | S63: 4 | V63: Det skulle vara bra om man kan ha två kurser istället för tre i varje termin. För att tempo är för högt. | W63: Googla lite mer, innan kurs start.
A64: 2019-05-07 16:55:51 | C64: TBASA-BV | D64: Kvinna | E64: 4 | G64: 81-100% | I64: 4 | K64: 4 | M64: 5 | O64: 4 | Q64: 3 | S64: 4 | U64: Bra planering och struktur på lektionerna. | V64: Lättare att hitta allt material (gäller alla kurser).
A65: 2019-05-07 16:58:42 | C65: TBASA-BV | D65: Man | E65: 3 | F65: Går igenom för snabbt. Lite långtråkiga lektioner. | G65: 61-80% | H65: De kändes inte alltid som att man lärde sig något på lektionerna så de kändes bättre att plugga själv istället. | I65: 3 | J65: Det var inte alltid man fick svar på sin fråga utan man fick svar på något helt annat. | K65: 2 | L65: Hade inte så mycket förkunskaper. | M65: 4 | N65: Det skulle vara bättre om man kunde bli påmind om mellan vilka datum man kan registrera sig för tentor o så. Helst vid flera tillfällen ifall man missar nån föreläsning. | O65: 3 | Q65: 2 | S65: 2 | U65: Bra handstil och tydlig med figurer. | V65: Att gå in mer på detalj när vissa svårare saker förklaras. | W65: Kolla föreläsningar på youtube utöver föreläsningarna och ta hjälp av andra klasskamrater. Du kan alltid något de inte kan o de kan alltid något du inte kan.
A66: 2019-05-07 16:58:57 | C66: TBASA-BV | D66: Man | E66: 5 | G66: 81-100% | I66: 5 | K66: 3 | L66: Läste tom Matte D på gymnasiet men det var flera år sedan så var mycket kunskap som hade glömts bort. | M66: 5 | O66: 5 | Q66: 5 | S66: 5 | U66: Väldigt bra och tydliga lektioner. | W66: Kan bara fortsätta ge samma råd som vi själva fick, dvs lägg mycket tid på matten i början.
A67: 2019-05-07 16:59:12 | C67: TBASA-BV | D67: Man | E67: 4 | F67: Har utveklat mina mattekunskaper markant under kursens gång. Innan ansåg jag mig vara relativt dålig på matematik men känner att jag har blivit skarpare i att förstå nya koncept. | G67: 81-100% | I67: 5 | K67: 5 | L67: Matematik 3b | M67: 4 | O67: 3 | P67: Bokens facit gör inga som helst försök till att förklara lösningar bakom frågorna vilket gör det mycket svårt att se sina egna fel. A uppgifterna (de lättaste uppgifterna i ett kapitel) är nästintill värdelösa och borde ta upp mindre utrymme i boken. En effektiv pluggstrategi är att skita i A uppgifterna (de lättaste) och vara fokuserad på lektionerna istället. | Q67: 5 | R67: Härlig klass men könsfördelningen var mycket skev. Ena klassen är en korvfest. | S67: 5 | W67: Hålla sig ikapp med schemat under alla omständigheter. Om möjligt ska man plugga ifrån schemat men fortfarande gå på genomgångarna och göra svåra uppgifter (A uppgifter är nästintill värdelösa, speciellt om man går på genomgångar). Borde understrykas att A uppgifter (de lättaste uppgifterna) borde få minimal prioritet.
A68: 2019-05-07 17:05:05 | C68: TBASA-BV | D68: Man | E68: 4 | F68: Ser gärna lite svårare exempel på genomgångarna för högre betyg. Gärna fler exempel som inte finns i boken. Skulle också vara skönt med ett dokument som listar alla vanliga formella fel. | G68: 41-60% | H68: Upplevde att det som gicks igenom på lektionerna var detsamma som fanns i böckerna. Skulle gärna se mer exempel som inte finns i böckerna och mer genomgång av formalian. | I68: 3 | K68: 4 | M68: 4 | N68: Skulle vilja ha ett sammanställt dokument med alla va liga formella fel. | O68: 5 | Q68: 5 | S68: 5 | U68: Väldigt tydliga och bra genomgångar, lätt att förstå nya koncept! | V68: Lite svårare exempel, och gärna exempel på uppgifter som inte finns i kurslitteraturen. Kanske från en annan mattebok? En sammanställning av vanliga formella fel vore toppen! | W68: Se det som ett heltidsjobb ”8-17” med 1h lunch inkluderat. Ta aktiva pauser och se till att verkligen vara ledig ”efter jobbet”.
A69: 2019-05-07 17:05:06 | C69: TBASA-BV | D69: Kvinna | E69: 5 | G69: 81-100% | I69: 5 | K69: 3 | L69: Har en gång i tiden läst till matte E men hade behövt repetera mer innan kursstart för att förfriska minnet. Hade gärna fått tips på vad som kan repeteras innan kursstart | M69: 2 | N69: Har velat ha tydligare info om när tentamensanmälan stänger. Info innan kursstart (var visserligen reserv) om vilka böcker som ska användas och vad som kan vara bra att plugga på innan kursstart för att inte hamna efter i början, vilket jag gjorde då det var väldigt mycket i början vilket har lett till att jag inte tagit igen detta under hela våren. | O69: 4 | P69: Svårare uppgifter på skrivningar än i boken | Q69: 3 | R69: I början riktigt dålig, numera okej. Det borde ha varit någon lära känna övning i början. | S69: 5 | T69: Tack vare Vania, ja. | U69: Vania är en väldigt bra lärare och gör matte väldigt kul och enkelt. | V69: Se kommentar till kursinformation | W69: Plugga/repetera innan kursstart
